BEGIN:VCALENDAR
VERSION:2.0
PRODID:-//Beresfield Bowling Club - ECPv6.15.20//NONSGML v1.0//EN
CALSCALE:GREGORIAN
METHOD:PUBLISH
X-WR-CALNAME:Beresfield Bowling Club
X-ORIGINAL-URL:https://berobowlo.com.au
X-WR-CALDESC:Events for Beresfield Bowling Club
REFRESH-INTERVAL;VALUE=DURATION:PT1H
X-Robots-Tag:noindex
X-PUBLISHED-TTL:PT1H
BEGIN:VTIMEZONE
TZID:UTC
BEGIN:STANDARD
TZOFFSETFROM:+0000
TZOFFSETTO:+0000
TZNAME:UTC
DTSTART:20240101T000000
END:STANDARD
END:VTIMEZONE
BEGIN:VEVENT
DTSTART;TZID=UTC:20250801T114500
DTEND;TZID=UTC:20250801T140000
DTSTAMP:20260425T201733
CREATED:20240207T010925Z
LAST-MODIFIED:20260313T011827Z
UID:10003590-1754048700-1754056800@berobowlo.com.au
SUMMARY:Weekly Lunch Specials
DESCRIPTION:
URL:https://berobowlo.com.au/event/weekly-lunch-specials/2025-08-01/
CATEGORIES:Weekly Events
END:VEVENT
BEGIN:VEVENT
DTSTART;TZID=UTC:20250801T153000
DTEND;TZID=UTC:20250801T173000
DTSTAMP:20260425T201733
CREATED:20240207T010233Z
LAST-MODIFIED:20260213T044035Z
UID:10035877-1754062200-1754069400@berobowlo.com.au
SUMMARY:Happy Hour
DESCRIPTION:
URL:https://berobowlo.com.au/event/happy-hour/2025-08-01/
CATEGORIES:Weekly Events
END:VEVENT
BEGIN:VEVENT
DTSTART;TZID=UTC:20250802T130000
DTEND;TZID=UTC:20250802T130000
DTSTAMP:20260425T201733
CREATED:20250403T014526Z
LAST-MODIFIED:20260213T002834Z
UID:10028072-1754139600-1754139600@berobowlo.com.au
SUMMARY:Cash Housie
DESCRIPTION:Saturdays at 1pm\nSundays at 1.30pm
URL:https://berobowlo.com.au/event/cash-housie/2025-08-02/
CATEGORIES:Weekly Events
END:VEVENT
BEGIN:VEVENT
DTSTART;TZID=UTC:20250802T153000
DTEND;TZID=UTC:20250802T173000
DTSTAMP:20260425T201733
CREATED:20240207T010233Z
LAST-MODIFIED:20260213T044035Z
UID:10035878-1754148600-1754155800@berobowlo.com.au
SUMMARY:Happy Hour
DESCRIPTION:
URL:https://berobowlo.com.au/event/happy-hour/2025-08-02/
CATEGORIES:Weekly Events
END:VEVENT
BEGIN:VEVENT
DTSTART;TZID=UTC:20250802T200000
DTEND;TZID=UTC:20250802T200000
DTSTAMP:20260425T201733
CREATED:20241205T025653Z
LAST-MODIFIED:20250627T030914Z
UID:10027140-1754164800-1754164800@berobowlo.com.au
SUMMARY:Triple Zero
DESCRIPTION:
URL:https://berobowlo.com.au/event/triple-zero-2/
CATEGORIES:Live Entertainment
END:VEVENT
BEGIN:VEVENT
DTSTART;TZID=UTC:20250803T133000
DTEND;TZID=UTC:20250803T133000
DTSTAMP:20260425T201733
CREATED:20250403T015009Z
LAST-MODIFIED:20260213T043741Z
UID:10028332-1754227800-1754227800@berobowlo.com.au
SUMMARY:Cash Housie
DESCRIPTION:Saturdays at 1pm\nSundays at 1.30pm
URL:https://berobowlo.com.au/event/cash-housie-5/2025-08-03/
CATEGORIES:Weekly Events
END:VEVENT
BEGIN:VEVENT
DTSTART;TZID=UTC:20250803T153000
DTEND;TZID=UTC:20250803T173000
DTSTAMP:20260425T201733
CREATED:20240207T010233Z
LAST-MODIFIED:20260213T044035Z
UID:10035879-1754235000-1754242200@berobowlo.com.au
SUMMARY:Happy Hour
DESCRIPTION:
URL:https://berobowlo.com.au/event/happy-hour/2025-08-03/
CATEGORIES:Weekly Events
END:VEVENT
BEGIN:VEVENT
DTSTART;TZID=UTC:20250803T173000
DTEND;TZID=UTC:20250803T173000
DTSTAMP:20260425T201733
CREATED:20240806T023833Z
LAST-MODIFIED:20251006T215636Z
UID:10018157-1754242200-1754242200@berobowlo.com.au
SUMMARY:Red Dirt Country Band with Special Guest Artist
DESCRIPTION:Every Sunday at 5.30pm
URL:https://berobowlo.com.au/event/red-dirt-country-band/2025-08-03/
CATEGORIES:Live Entertainment
END:VEVENT
BEGIN:VEVENT
DTSTART;TZID=UTC:20250804T114500
DTEND;TZID=UTC:20250804T140000
DTSTAMP:20260425T201733
CREATED:20240207T010925Z
LAST-MODIFIED:20260313T011827Z
UID:10003591-1754307900-1754316000@berobowlo.com.au
SUMMARY:Weekly Lunch Specials
DESCRIPTION:
URL:https://berobowlo.com.au/event/weekly-lunch-specials/2025-08-04/
CATEGORIES:Weekly Events
END:VEVENT
BEGIN:VEVENT
DTSTART;TZID=UTC:20250804T153000
DTEND;TZID=UTC:20250804T173000
DTSTAMP:20260425T201733
CREATED:20240207T010233Z
LAST-MODIFIED:20260213T044035Z
UID:10035880-1754321400-1754328600@berobowlo.com.au
SUMMARY:Happy Hour
DESCRIPTION:
URL:https://berobowlo.com.au/event/happy-hour/2025-08-04/
CATEGORIES:Weekly Events
END:VEVENT
BEGIN:VEVENT
DTSTART;TZID=UTC:20250804T173000
DTEND;TZID=UTC:20250804T173000
DTSTAMP:20260425T201733
CREATED:20240726T044813Z
LAST-MODIFIED:20260331T003726Z
UID:10006400-1754328600-1754328600@berobowlo.com.au
SUMMARY:Kids Eat Free
DESCRIPTION:Every Monday @ 5.30pm
URL:https://berobowlo.com.au/event/kids-eat-free/2025-08-04/
CATEGORIES:Weekly Events
END:VEVENT
BEGIN:VEVENT
DTSTART;TZID=UTC:20250805T114500
DTEND;TZID=UTC:20250805T140000
DTSTAMP:20260425T201733
CREATED:20240207T010925Z
LAST-MODIFIED:20260313T011827Z
UID:10003592-1754394300-1754402400@berobowlo.com.au
SUMMARY:Weekly Lunch Specials
DESCRIPTION:
URL:https://berobowlo.com.au/event/weekly-lunch-specials/2025-08-05/
CATEGORIES:Weekly Events
END:VEVENT
BEGIN:VEVENT
DTSTART;TZID=UTC:20250805T153000
DTEND;TZID=UTC:20250805T173000
DTSTAMP:20260425T201733
CREATED:20240207T010233Z
LAST-MODIFIED:20260213T044035Z
UID:10035881-1754407800-1754415000@berobowlo.com.au
SUMMARY:Happy Hour
DESCRIPTION:
URL:https://berobowlo.com.au/event/happy-hour/2025-08-05/
CATEGORIES:Weekly Events
END:VEVENT
BEGIN:VEVENT
DTSTART;TZID=UTC:20250805T183000
DTEND;TZID=UTC:20250805T183000
DTSTAMP:20260425T201733
CREATED:20240808T230735Z
LAST-MODIFIED:20240808T230948Z
UID:10021492-1754418600-1754418600@berobowlo.com.au
SUMMARY:Members’ Cash Draw
DESCRIPTION:Drawn at 6.30pm\, 7.30pm\, and 8.30pm every Tuesday
URL:https://berobowlo.com.au/event/members-cash-draw-2/2025-08-05/
CATEGORIES:Weekly Events
END:VEVENT
BEGIN:VEVENT
DTSTART;TZID=UTC:20250806T110000
DTEND;TZID=UTC:20250806T110000
DTSTAMP:20260425T201733
CREATED:20240726T043900Z
LAST-MODIFIED:20241203T031220Z
UID:10007631-1754478000-1754478000@berobowlo.com.au
SUMMARY:Club Bingo
DESCRIPTION:Every Wednesday @ 11.00am
URL:https://berobowlo.com.au/event/bingo/2025-08-06/
CATEGORIES:Weekly Events
END:VEVENT
BEGIN:VEVENT
DTSTART;TZID=UTC:20250806T114500
DTEND;TZID=UTC:20250806T140000
DTSTAMP:20260425T201733
CREATED:20240207T010925Z
LAST-MODIFIED:20260313T011827Z
UID:10003593-1754480700-1754488800@berobowlo.com.au
SUMMARY:Weekly Lunch Specials
DESCRIPTION:
URL:https://berobowlo.com.au/event/weekly-lunch-specials/2025-08-06/
CATEGORIES:Weekly Events
END:VEVENT
BEGIN:VEVENT
DTSTART;TZID=UTC:20250806T153000
DTEND;TZID=UTC:20250806T173000
DTSTAMP:20260425T201733
CREATED:20240207T010233Z
LAST-MODIFIED:20260213T044035Z
UID:10035882-1754494200-1754501400@berobowlo.com.au
SUMMARY:Happy Hour
DESCRIPTION:
URL:https://berobowlo.com.au/event/happy-hour/2025-08-06/
CATEGORIES:Weekly Events
END:VEVENT
BEGIN:VEVENT
DTSTART;TZID=UTC:20250806T173000
DTEND;TZID=UTC:20250806T173000
DTSTAMP:20260425T201733
CREATED:20240726T045301Z
LAST-MODIFIED:20260330T012518Z
UID:10007195-1754501400-1754501400@berobowlo.com.au
SUMMARY:Wednesday Schnitzel Night
DESCRIPTION:Every Wednesday @ 5.30pm
URL:https://berobowlo.com.au/event/wednesday-schnitzel-night/2025-08-06/
CATEGORIES:Weekly Events
END:VEVENT
BEGIN:VEVENT
DTSTART;TZID=UTC:20250806T190000
DTEND;TZID=UTC:20250806T190000
DTSTAMP:20260425T201733
CREATED:20240819T024656Z
LAST-MODIFIED:20251219T003457Z
UID:10022616-1754506800-1754506800@berobowlo.com.au
SUMMARY:Poker Wednesday
DESCRIPTION:Play starts @ 7pm.
URL:https://berobowlo.com.au/event/poker-wednesday/2025-08-06/
CATEGORIES:Weekly Events
END:VEVENT
BEGIN:VEVENT
DTSTART;TZID=UTC:20250807T114500
DTEND;TZID=UTC:20250807T140000
DTSTAMP:20260425T201733
CREATED:20240207T010925Z
LAST-MODIFIED:20260313T011827Z
UID:10003594-1754567100-1754575200@berobowlo.com.au
SUMMARY:Weekly Lunch Specials
DESCRIPTION:
URL:https://berobowlo.com.au/event/weekly-lunch-specials/2025-08-07/
CATEGORIES:Weekly Events
END:VEVENT
BEGIN:VEVENT
DTSTART;TZID=UTC:20250807T153000
DTEND;TZID=UTC:20250807T173000
DTSTAMP:20260425T201733
CREATED:20240207T010233Z
LAST-MODIFIED:20260213T044035Z
UID:10035883-1754580600-1754587800@berobowlo.com.au
SUMMARY:Happy Hour
DESCRIPTION:
URL:https://berobowlo.com.au/event/happy-hour/2025-08-07/
CATEGORIES:Weekly Events
END:VEVENT
BEGIN:VEVENT
DTSTART;TZID=UTC:20250807T173000
DTEND;TZID=UTC:20250807T173000
DTSTAMP:20260425T201733
CREATED:20240726T050232Z
LAST-MODIFIED:20260330T012735Z
UID:10006930-1754587800-1754587800@berobowlo.com.au
SUMMARY:Thursday Steak Night
DESCRIPTION:Every Thursday @ 5.30pm
URL:https://berobowlo.com.au/event/thursday-steak-night-2/2025-08-07/
CATEGORIES:Weekly Events
END:VEVENT
BEGIN:VEVENT
DTSTART;TZID=UTC:20250807T190000
DTEND;TZID=UTC:20250807T190000
DTSTAMP:20260425T201733
CREATED:20250402T050930Z
LAST-MODIFIED:20260213T002822Z
UID:10027752-1754593200-1754593200@berobowlo.com.au
SUMMARY:Cash Housie Helicopter
DESCRIPTION:Thursdays at 7.00pm
URL:https://berobowlo.com.au/event/cash-housie-helicopter/2025-08-07/
CATEGORIES:Weekly Events
END:VEVENT
BEGIN:VEVENT
DTSTART;TZID=UTC:20250808T114500
DTEND;TZID=UTC:20250808T140000
DTSTAMP:20260425T201733
CREATED:20240207T010925Z
LAST-MODIFIED:20260313T011827Z
UID:10003595-1754653500-1754661600@berobowlo.com.au
SUMMARY:Weekly Lunch Specials
DESCRIPTION:
URL:https://berobowlo.com.au/event/weekly-lunch-specials/2025-08-08/
CATEGORIES:Weekly Events
END:VEVENT
BEGIN:VEVENT
DTSTART;TZID=UTC:20250808T153000
DTEND;TZID=UTC:20250808T173000
DTSTAMP:20260425T201733
CREATED:20240207T010233Z
LAST-MODIFIED:20260213T044035Z
UID:10035884-1754667000-1754674200@berobowlo.com.au
SUMMARY:Happy Hour
DESCRIPTION:
URL:https://berobowlo.com.au/event/happy-hour/2025-08-08/
CATEGORIES:Weekly Events
END:VEVENT
BEGIN:VEVENT
DTSTART;TZID=UTC:20250809T130000
DTEND;TZID=UTC:20250809T130000
DTSTAMP:20260425T201733
CREATED:20250403T014526Z
LAST-MODIFIED:20260213T002834Z
UID:10028073-1754744400-1754744400@berobowlo.com.au
SUMMARY:Cash Housie
DESCRIPTION:Saturdays at 1pm\nSundays at 1.30pm
URL:https://berobowlo.com.au/event/cash-housie/2025-08-09/
CATEGORIES:Weekly Events
END:VEVENT
BEGIN:VEVENT
DTSTART;TZID=UTC:20250809T153000
DTEND;TZID=UTC:20250809T173000
DTSTAMP:20260425T201733
CREATED:20240207T010233Z
LAST-MODIFIED:20260213T044035Z
UID:10035885-1754753400-1754760600@berobowlo.com.au
SUMMARY:Happy Hour
DESCRIPTION:
URL:https://berobowlo.com.au/event/happy-hour/2025-08-09/
CATEGORIES:Weekly Events
END:VEVENT
BEGIN:VEVENT
DTSTART;TZID=UTC:20250809T200000
DTEND;TZID=UTC:20250809T200000
DTSTAMP:20260425T201733
CREATED:20250627T031255Z
LAST-MODIFIED:20250731T043944Z
UID:10028602-1754769600-1754769600@berobowlo.com.au
SUMMARY:Unit 20
DESCRIPTION:
URL:https://berobowlo.com.au/event/unit-20/
CATEGORIES:Live Entertainment
END:VEVENT
BEGIN:VEVENT
DTSTART;TZID=UTC:20250810T133000
DTEND;TZID=UTC:20250810T133000
DTSTAMP:20260425T201733
CREATED:20250403T015009Z
LAST-MODIFIED:20260213T043741Z
UID:10028333-1754832600-1754832600@berobowlo.com.au
SUMMARY:Cash Housie
DESCRIPTION:Saturdays at 1pm\nSundays at 1.30pm
URL:https://berobowlo.com.au/event/cash-housie-5/2025-08-10/
CATEGORIES:Weekly Events
END:VEVENT
BEGIN:VEVENT
DTSTART;TZID=UTC:20250810T153000
DTEND;TZID=UTC:20250810T173000
DTSTAMP:20260425T201733
CREATED:20240207T010233Z
LAST-MODIFIED:20260213T044035Z
UID:10035886-1754839800-1754847000@berobowlo.com.au
SUMMARY:Happy Hour
DESCRIPTION:
URL:https://berobowlo.com.au/event/happy-hour/2025-08-10/
CATEGORIES:Weekly Events
END:VEVENT
END:VCALENDAR