BEGIN:VCALENDAR
VERSION:2.0
PRODID:-//Beresfield Bowling Club - ECPv6.15.20//NONSGML v1.0//EN
CALSCALE:GREGORIAN
METHOD:PUBLISH
X-ORIGINAL-URL:https://berobowlo.com.au
X-WR-CALDESC:Events for Beresfield Bowling Club
REFRESH-INTERVAL;VALUE=DURATION:PT1H
X-Robots-Tag:noindex
X-PUBLISHED-TTL:PT1H
BEGIN:VTIMEZONE
TZID:UTC
BEGIN:STANDARD
TZOFFSETFROM:+0000
TZOFFSETTO:+0000
TZNAME:UTC
DTSTART:20250101T000000
END:STANDARD
END:VTIMEZONE
BEGIN:VEVENT
DTSTART;TZID=UTC:20260507T190000
DTEND;TZID=UTC:20260507T190000
DTSTAMP:20260419T121833
CREATED:20250402T050930Z
LAST-MODIFIED:20260213T002822Z
UID:10027791-1778180400-1778180400@berobowlo.com.au
SUMMARY:Cash Housie Helicopter
DESCRIPTION:Thursdays at 7.00pm
URL:https://berobowlo.com.au/event/cash-housie-helicopter/2026-05-07/
CATEGORIES:Weekly Events
END:VEVENT
BEGIN:VEVENT
DTSTART;TZID=UTC:20260508T114500
DTEND;TZID=UTC:20260508T140000
DTSTAMP:20260419T121833
CREATED:20240207T010925Z
LAST-MODIFIED:20260313T011827Z
UID:10003790-1778240700-1778248800@berobowlo.com.au
SUMMARY:Weekly Lunch Specials
DESCRIPTION:
URL:https://berobowlo.com.au/event/weekly-lunch-specials/2026-05-08/
CATEGORIES:Weekly Events
END:VEVENT
BEGIN:VEVENT
DTSTART;TZID=UTC:20260508T153000
DTEND;TZID=UTC:20260508T173000
DTSTAMP:20260419T121833
CREATED:20240207T010233Z
LAST-MODIFIED:20260213T044035Z
UID:10036156-1778254200-1778261400@berobowlo.com.au
SUMMARY:Happy Hour
DESCRIPTION:
URL:https://berobowlo.com.au/event/happy-hour/2026-05-08/
CATEGORIES:Weekly Events
END:VEVENT
BEGIN:VEVENT
DTSTART;TZID=UTC:20260508T180000
DTEND;TZID=UTC:20260508T180000
DTSTAMP:20260419T121833
CREATED:20260416T013551Z
LAST-MODIFIED:20260416T013551Z
UID:10038088-1778263200-1778263200@berobowlo.com.au
SUMMARY:Cash Cases Promotion
DESCRIPTION:
URL:https://berobowlo.com.au/event/cash-cases-promotion/2026-05-08/
CATEGORIES:Promotions,Weekly Events
END:VEVENT
BEGIN:VEVENT
DTSTART;TZID=UTC:20260508T184500
DTEND;TZID=UTC:20260508T184500
DTSTAMP:20260419T121833
CREATED:20260115T024739Z
LAST-MODIFIED:20260316T045343Z
UID:10030722-1778265900-1778265900@berobowlo.com.au
SUMMARY:Weekly Meat Raffles
DESCRIPTION:
URL:https://berobowlo.com.au/event/weekly-meat-raffles-5/2026-05-08/
CATEGORIES:Weekly Events
END:VEVENT
BEGIN:VEVENT
DTSTART;TZID=UTC:20260508T200000
DTEND;TZID=UTC:20260508T200000
DTSTAMP:20260419T121833
CREATED:20240806T032352Z
LAST-MODIFIED:20260316T014353Z
UID:10019340-1778270400-1778270400@berobowlo.com.au
SUMMARY:Rock Rhapsody
DESCRIPTION:
URL:https://berobowlo.com.au/event/rock-rhapsody/
CATEGORIES:Live Entertainment
END:VEVENT
BEGIN:VEVENT
DTSTART;TZID=UTC:20260509T130000
DTEND;TZID=UTC:20260509T130000
DTSTAMP:20260419T121833
CREATED:20250403T014526Z
LAST-MODIFIED:20260213T002834Z
UID:10028112-1778331600-1778331600@berobowlo.com.au
SUMMARY:Cash Housie
DESCRIPTION:Saturdays at 1pm\nSundays at 1.30pm
URL:https://berobowlo.com.au/event/cash-housie/2026-05-09/
CATEGORIES:Weekly Events
END:VEVENT
BEGIN:VEVENT
DTSTART;TZID=UTC:20260509T153000
DTEND;TZID=UTC:20260509T173000
DTSTAMP:20260419T121833
CREATED:20240207T010233Z
LAST-MODIFIED:20260213T044035Z
UID:10036157-1778340600-1778347800@berobowlo.com.au
SUMMARY:Happy Hour
DESCRIPTION:
URL:https://berobowlo.com.au/event/happy-hour/2026-05-09/
CATEGORIES:Weekly Events
END:VEVENT
BEGIN:VEVENT
DTSTART;TZID=UTC:20260509T200000
DTEND;TZID=UTC:20260509T200000
DTSTAMP:20260419T121833
CREATED:20260311T014442Z
LAST-MODIFIED:20260316T043729Z
UID:10037904-1778356800-1778356800@berobowlo.com.au
SUMMARY:Friends of Adam
DESCRIPTION:
URL:https://berobowlo.com.au/event/friends-of-adam/
CATEGORIES:Live Entertainment
END:VEVENT
BEGIN:VEVENT
DTSTART;TZID=UTC:20260510T133000
DTEND;TZID=UTC:20260510T133000
DTSTAMP:20260419T121833
CREATED:20250403T015009Z
LAST-MODIFIED:20260213T043741Z
UID:10028372-1778419800-1778419800@berobowlo.com.au
SUMMARY:Cash Housie
DESCRIPTION:Saturdays at 1pm\nSundays at 1.30pm
URL:https://berobowlo.com.au/event/cash-housie-5/2026-05-10/
CATEGORIES:Weekly Events
END:VEVENT
BEGIN:VEVENT
DTSTART;TZID=UTC:20260510T153000
DTEND;TZID=UTC:20260510T173000
DTSTAMP:20260419T121833
CREATED:20240207T010233Z
LAST-MODIFIED:20260213T044035Z
UID:10036158-1778427000-1778434200@berobowlo.com.au
SUMMARY:Happy Hour
DESCRIPTION:
URL:https://berobowlo.com.au/event/happy-hour/2026-05-10/
CATEGORIES:Weekly Events
END:VEVENT
BEGIN:VEVENT
DTSTART;TZID=UTC:20260510T173000
DTEND;TZID=UTC:20260510T173000
DTSTAMP:20260419T121833
CREATED:20240806T023833Z
LAST-MODIFIED:20251006T215636Z
UID:10018197-1778434200-1778434200@berobowlo.com.au
SUMMARY:Red Dirt Country Band with Special Guest Artist
DESCRIPTION:Every Sunday at 5.30pm
URL:https://berobowlo.com.au/event/red-dirt-country-band/2026-05-10/
CATEGORIES:Live Entertainment
END:VEVENT
BEGIN:VEVENT
DTSTART;TZID=UTC:20260510T184500
DTEND;TZID=UTC:20260510T184500
DTSTAMP:20260419T121833
CREATED:20260115T024739Z
LAST-MODIFIED:20260316T045343Z
UID:10030723-1778438700-1778438700@berobowlo.com.au
SUMMARY:Weekly Meat Raffles
DESCRIPTION:
URL:https://berobowlo.com.au/event/weekly-meat-raffles-5/2026-05-10/
CATEGORIES:Weekly Events
END:VEVENT
BEGIN:VEVENT
DTSTART;TZID=UTC:20260511T114500
DTEND;TZID=UTC:20260511T140000
DTSTAMP:20260419T121833
CREATED:20240207T010925Z
LAST-MODIFIED:20260313T011827Z
UID:10003791-1778499900-1778508000@berobowlo.com.au
SUMMARY:Weekly Lunch Specials
DESCRIPTION:
URL:https://berobowlo.com.au/event/weekly-lunch-specials/2026-05-11/
CATEGORIES:Weekly Events
END:VEVENT
BEGIN:VEVENT
DTSTART;TZID=UTC:20260511T153000
DTEND;TZID=UTC:20260511T173000
DTSTAMP:20260419T121833
CREATED:20240207T010233Z
LAST-MODIFIED:20260213T044035Z
UID:10036159-1778513400-1778520600@berobowlo.com.au
SUMMARY:Happy Hour
DESCRIPTION:
URL:https://berobowlo.com.au/event/happy-hour/2026-05-11/
CATEGORIES:Weekly Events
END:VEVENT
BEGIN:VEVENT
DTSTART;TZID=UTC:20260511T173000
DTEND;TZID=UTC:20260511T173000
DTSTAMP:20260419T121833
CREATED:20240726T044813Z
LAST-MODIFIED:20260331T003726Z
UID:10006440-1778520600-1778520600@berobowlo.com.au
SUMMARY:Kids Eat Free
DESCRIPTION:Every Monday @ 5.30pm
URL:https://berobowlo.com.au/event/kids-eat-free/2026-05-11/
CATEGORIES:Weekly Events
END:VEVENT
BEGIN:VEVENT
DTSTART;TZID=UTC:20260512T114500
DTEND;TZID=UTC:20260512T140000
DTSTAMP:20260419T121833
CREATED:20240207T010925Z
LAST-MODIFIED:20260313T011827Z
UID:10003792-1778586300-1778594400@berobowlo.com.au
SUMMARY:Weekly Lunch Specials
DESCRIPTION:
URL:https://berobowlo.com.au/event/weekly-lunch-specials/2026-05-12/
CATEGORIES:Weekly Events
END:VEVENT
BEGIN:VEVENT
DTSTART;TZID=UTC:20260512T153000
DTEND;TZID=UTC:20260512T173000
DTSTAMP:20260419T121833
CREATED:20240207T010233Z
LAST-MODIFIED:20260213T044035Z
UID:10036160-1778599800-1778607000@berobowlo.com.au
SUMMARY:Happy Hour
DESCRIPTION:
URL:https://berobowlo.com.au/event/happy-hour/2026-05-12/
CATEGORIES:Weekly Events
END:VEVENT
BEGIN:VEVENT
DTSTART;TZID=UTC:20260512T183000
DTEND;TZID=UTC:20260512T183000
DTSTAMP:20260419T121833
CREATED:20240808T230735Z
LAST-MODIFIED:20240808T230948Z
UID:10021532-1778610600-1778610600@berobowlo.com.au
SUMMARY:Members’ Cash Draw
DESCRIPTION:Drawn at 6.30pm\, 7.30pm\, and 8.30pm every Tuesday
URL:https://berobowlo.com.au/event/members-cash-draw-2/2026-05-12/
CATEGORIES:Weekly Events
END:VEVENT
BEGIN:VEVENT
DTSTART;TZID=UTC:20260512T184500
DTEND;TZID=UTC:20260512T184500
DTSTAMP:20260419T121833
CREATED:20260115T024739Z
LAST-MODIFIED:20260316T045343Z
UID:10030724-1778611500-1778611500@berobowlo.com.au
SUMMARY:Weekly Meat Raffles
DESCRIPTION:
URL:https://berobowlo.com.au/event/weekly-meat-raffles-5/2026-05-12/
CATEGORIES:Weekly Events
END:VEVENT
BEGIN:VEVENT
DTSTART;TZID=UTC:20260513T110000
DTEND;TZID=UTC:20260513T110000
DTSTAMP:20260419T121833
CREATED:20240726T043900Z
LAST-MODIFIED:20241203T031220Z
UID:10007791-1778670000-1778670000@berobowlo.com.au
SUMMARY:Club Bingo
DESCRIPTION:Every Wednesday @ 11.00am
URL:https://berobowlo.com.au/event/bingo/2026-05-13/
CATEGORIES:Weekly Events
END:VEVENT
BEGIN:VEVENT
DTSTART;TZID=UTC:20260513T114500
DTEND;TZID=UTC:20260513T140000
DTSTAMP:20260419T121833
CREATED:20240207T010925Z
LAST-MODIFIED:20260313T011827Z
UID:10003793-1778672700-1778680800@berobowlo.com.au
SUMMARY:Weekly Lunch Specials
DESCRIPTION:
URL:https://berobowlo.com.au/event/weekly-lunch-specials/2026-05-13/
CATEGORIES:Weekly Events
END:VEVENT
BEGIN:VEVENT
DTSTART;TZID=UTC:20260513T153000
DTEND;TZID=UTC:20260513T173000
DTSTAMP:20260419T121833
CREATED:20240207T010233Z
LAST-MODIFIED:20260213T044035Z
UID:10036161-1778686200-1778693400@berobowlo.com.au
SUMMARY:Happy Hour
DESCRIPTION:
URL:https://berobowlo.com.au/event/happy-hour/2026-05-13/
CATEGORIES:Weekly Events
END:VEVENT
BEGIN:VEVENT
DTSTART;TZID=UTC:20260513T173000
DTEND;TZID=UTC:20260513T173000
DTSTAMP:20260419T121833
CREATED:20240726T045301Z
LAST-MODIFIED:20260330T012518Z
UID:10007235-1778693400-1778693400@berobowlo.com.au
SUMMARY:Wednesday Schnitzel Night
DESCRIPTION:Every Wednesday @ 5.30pm
URL:https://berobowlo.com.au/event/wednesday-schnitzel-night/2026-05-13/
CATEGORIES:Weekly Events
END:VEVENT
BEGIN:VEVENT
DTSTART;TZID=UTC:20260513T190000
DTEND;TZID=UTC:20260513T190000
DTSTAMP:20260419T121833
CREATED:20240819T024656Z
LAST-MODIFIED:20251219T003457Z
UID:10022656-1778698800-1778698800@berobowlo.com.au
SUMMARY:Poker Wednesday
DESCRIPTION:Play starts @ 7pm.
URL:https://berobowlo.com.au/event/poker-wednesday/2026-05-13/
CATEGORIES:Weekly Events
END:VEVENT
BEGIN:VEVENT
DTSTART;TZID=UTC:20260514T114500
DTEND;TZID=UTC:20260514T140000
DTSTAMP:20260419T121833
CREATED:20240207T010925Z
LAST-MODIFIED:20260313T011827Z
UID:10003794-1778759100-1778767200@berobowlo.com.au
SUMMARY:Weekly Lunch Specials
DESCRIPTION:
URL:https://berobowlo.com.au/event/weekly-lunch-specials/2026-05-14/
CATEGORIES:Weekly Events
END:VEVENT
BEGIN:VEVENT
DTSTART;TZID=UTC:20260514T153000
DTEND;TZID=UTC:20260514T173000
DTSTAMP:20260419T121833
CREATED:20240207T010233Z
LAST-MODIFIED:20260213T044035Z
UID:10036162-1778772600-1778779800@berobowlo.com.au
SUMMARY:Happy Hour
DESCRIPTION:
URL:https://berobowlo.com.au/event/happy-hour/2026-05-14/
CATEGORIES:Weekly Events
END:VEVENT
BEGIN:VEVENT
DTSTART;TZID=UTC:20260514T173000
DTEND;TZID=UTC:20260514T173000
DTSTAMP:20260419T121833
CREATED:20240726T050232Z
LAST-MODIFIED:20260330T012735Z
UID:10006970-1778779800-1778779800@berobowlo.com.au
SUMMARY:Thursday Steak Night
DESCRIPTION:Every Thursday @ 5.30pm
URL:https://berobowlo.com.au/event/thursday-steak-night-2/2026-05-14/
CATEGORIES:Weekly Events
END:VEVENT
BEGIN:VEVENT
DTSTART;TZID=UTC:20260514T190000
DTEND;TZID=UTC:20260514T190000
DTSTAMP:20260419T121833
CREATED:20250402T050930Z
LAST-MODIFIED:20260213T002822Z
UID:10027792-1778785200-1778785200@berobowlo.com.au
SUMMARY:Cash Housie Helicopter
DESCRIPTION:Thursdays at 7.00pm
URL:https://berobowlo.com.au/event/cash-housie-helicopter/2026-05-14/
CATEGORIES:Weekly Events
END:VEVENT
BEGIN:VEVENT
DTSTART;TZID=UTC:20260515T114500
DTEND;TZID=UTC:20260515T140000
DTSTAMP:20260419T121833
CREATED:20240207T010925Z
LAST-MODIFIED:20260313T011827Z
UID:10003795-1778845500-1778853600@berobowlo.com.au
SUMMARY:Weekly Lunch Specials
DESCRIPTION:
URL:https://berobowlo.com.au/event/weekly-lunch-specials/2026-05-15/
CATEGORIES:Weekly Events
END:VEVENT
END:VCALENDAR