BEGIN:VCALENDAR
VERSION:2.0
PRODID:-//Beresfield Bowling Club - ECPv6.15.20//NONSGML v1.0//EN
CALSCALE:GREGORIAN
METHOD:PUBLISH
X-ORIGINAL-URL:https://berobowlo.com.au
X-WR-CALDESC:Events for Beresfield Bowling Club
REFRESH-INTERVAL;VALUE=DURATION:PT1H
X-Robots-Tag:noindex
X-PUBLISHED-TTL:PT1H
BEGIN:VTIMEZONE
TZID:UTC
BEGIN:STANDARD
TZOFFSETFROM:+0000
TZOFFSETTO:+0000
TZNAME:UTC
DTSTART:20250101T000000
END:STANDARD
END:VTIMEZONE
BEGIN:VEVENT
DTSTART;TZID=UTC:20260312T114500
DTEND;TZID=UTC:20260312T140000
DTSTAMP:20260424T134028
CREATED:20240207T010925Z
LAST-MODIFIED:20260313T011827Z
UID:10003749-1773315900-1773324000@berobowlo.com.au
SUMMARY:Weekly Lunch Specials
DESCRIPTION:
URL:https://berobowlo.com.au/event/weekly-lunch-specials/2026-03-12/
CATEGORIES:Weekly Events
END:VEVENT
BEGIN:VEVENT
DTSTART;TZID=UTC:20260312T153000
DTEND;TZID=UTC:20260312T173000
DTSTAMP:20260424T134028
CREATED:20240207T010233Z
LAST-MODIFIED:20260213T044035Z
UID:10036099-1773329400-1773336600@berobowlo.com.au
SUMMARY:Happy Hour
DESCRIPTION:
URL:https://berobowlo.com.au/event/happy-hour/2026-03-12/
CATEGORIES:Weekly Events
END:VEVENT
BEGIN:VEVENT
DTSTART;TZID=UTC:20260312T173000
DTEND;TZID=UTC:20260312T173000
DTSTAMP:20260424T134028
CREATED:20240726T050232Z
LAST-MODIFIED:20260330T012735Z
UID:10006961-1773336600-1773336600@berobowlo.com.au
SUMMARY:Thursday Steak Night
DESCRIPTION:Every Thursday @ 5.30pm
URL:https://berobowlo.com.au/event/thursday-steak-night-2/2026-03-12/
CATEGORIES:Weekly Events
END:VEVENT
BEGIN:VEVENT
DTSTART;TZID=UTC:20260312T190000
DTEND;TZID=UTC:20260312T190000
DTSTAMP:20260424T134028
CREATED:20250402T050930Z
LAST-MODIFIED:20260213T002822Z
UID:10027783-1773342000-1773342000@berobowlo.com.au
SUMMARY:Cash Housie Helicopter
DESCRIPTION:Thursdays at 7.00pm
URL:https://berobowlo.com.au/event/cash-housie-helicopter/2026-03-12/
CATEGORIES:Weekly Events
END:VEVENT
BEGIN:VEVENT
DTSTART;TZID=UTC:20260313T114500
DTEND;TZID=UTC:20260313T140000
DTSTAMP:20260424T134028
CREATED:20240207T010925Z
LAST-MODIFIED:20260313T011827Z
UID:10003750-1773402300-1773410400@berobowlo.com.au
SUMMARY:Weekly Lunch Specials
DESCRIPTION:
URL:https://berobowlo.com.au/event/weekly-lunch-specials/2026-03-13/
CATEGORIES:Weekly Events
END:VEVENT
BEGIN:VEVENT
DTSTART;TZID=UTC:20260313T153000
DTEND;TZID=UTC:20260313T173000
DTSTAMP:20260424T134028
CREATED:20240207T010233Z
LAST-MODIFIED:20260213T044035Z
UID:10036100-1773415800-1773423000@berobowlo.com.au
SUMMARY:Happy Hour
DESCRIPTION:
URL:https://berobowlo.com.au/event/happy-hour/2026-03-13/
CATEGORIES:Weekly Events
END:VEVENT
BEGIN:VEVENT
DTSTART;TZID=UTC:20260313T184500
DTEND;TZID=UTC:20260313T184500
DTSTAMP:20260424T134028
CREATED:20260115T024739Z
LAST-MODIFIED:20260316T045343Z
UID:10030690-1773427500-1773427500@berobowlo.com.au
SUMMARY:Weekly Meat Raffles
DESCRIPTION:
URL:https://berobowlo.com.au/event/weekly-meat-raffles-5/2026-03-13/
CATEGORIES:Weekly Events
END:VEVENT
BEGIN:VEVENT
DTSTART;TZID=UTC:20260313T193000
DTEND;TZID=UTC:20260313T193000
DTSTAMP:20260424T134028
CREATED:20260313T005113Z
LAST-MODIFIED:20260313T005113Z
UID:10037908-1773430200-1773430200@berobowlo.com.au
SUMMARY:Win 2 Corporate Tickets to a Knights Home Game - Draw 1
DESCRIPTION:
URL:https://berobowlo.com.au/event/win-2-corporate-tickets-to-a-knights-home-game-draw-1/
CATEGORIES:Live Entertainment|Weekly Events,Promotions
END:VEVENT
BEGIN:VEVENT
DTSTART;TZID=UTC:20260314T130000
DTEND;TZID=UTC:20260314T130000
DTSTAMP:20260424T134028
CREATED:20250403T014526Z
LAST-MODIFIED:20260213T002834Z
UID:10028104-1773493200-1773493200@berobowlo.com.au
SUMMARY:Cash Housie
DESCRIPTION:Saturdays at 1pm\nSundays at 1.30pm
URL:https://berobowlo.com.au/event/cash-housie/2026-03-14/
CATEGORIES:Weekly Events
END:VEVENT
BEGIN:VEVENT
DTSTART;TZID=UTC:20260314T153000
DTEND;TZID=UTC:20260314T173000
DTSTAMP:20260424T134028
CREATED:20240207T010233Z
LAST-MODIFIED:20260213T044035Z
UID:10036101-1773502200-1773509400@berobowlo.com.au
SUMMARY:Happy Hour
DESCRIPTION:
URL:https://berobowlo.com.au/event/happy-hour/2026-03-14/
CATEGORIES:Weekly Events
END:VEVENT
BEGIN:VEVENT
DTSTART;TZID=UTC:20260315T133000
DTEND;TZID=UTC:20260315T133000
DTSTAMP:20260424T134028
CREATED:20250403T015009Z
LAST-MODIFIED:20260213T043741Z
UID:10028364-1773581400-1773581400@berobowlo.com.au
SUMMARY:Cash Housie
DESCRIPTION:Saturdays at 1pm\nSundays at 1.30pm
URL:https://berobowlo.com.au/event/cash-housie-5/2026-03-15/
CATEGORIES:Weekly Events
END:VEVENT
BEGIN:VEVENT
DTSTART;TZID=UTC:20260315T153000
DTEND;TZID=UTC:20260315T173000
DTSTAMP:20260424T134028
CREATED:20240207T010233Z
LAST-MODIFIED:20260213T044035Z
UID:10036102-1773588600-1773595800@berobowlo.com.au
SUMMARY:Happy Hour
DESCRIPTION:
URL:https://berobowlo.com.au/event/happy-hour/2026-03-15/
CATEGORIES:Weekly Events
END:VEVENT
BEGIN:VEVENT
DTSTART;TZID=UTC:20260315T173000
DTEND;TZID=UTC:20260315T173000
DTSTAMP:20260424T134028
CREATED:20240806T023833Z
LAST-MODIFIED:20251006T215636Z
UID:10018189-1773595800-1773595800@berobowlo.com.au
SUMMARY:Red Dirt Country Band with Special Guest Artist
DESCRIPTION:Every Sunday at 5.30pm
URL:https://berobowlo.com.au/event/red-dirt-country-band/2026-03-15/
CATEGORIES:Live Entertainment
END:VEVENT
BEGIN:VEVENT
DTSTART;TZID=UTC:20260315T184500
DTEND;TZID=UTC:20260315T184500
DTSTAMP:20260424T134028
CREATED:20260115T024739Z
LAST-MODIFIED:20260316T045343Z
UID:10030691-1773600300-1773600300@berobowlo.com.au
SUMMARY:Weekly Meat Raffles
DESCRIPTION:
URL:https://berobowlo.com.au/event/weekly-meat-raffles-5/2026-03-15/
CATEGORIES:Weekly Events
END:VEVENT
BEGIN:VEVENT
DTSTART;TZID=UTC:20260316T114500
DTEND;TZID=UTC:20260316T140000
DTSTAMP:20260424T134028
CREATED:20240207T010925Z
LAST-MODIFIED:20260313T011827Z
UID:10003751-1773661500-1773669600@berobowlo.com.au
SUMMARY:Weekly Lunch Specials
DESCRIPTION:
URL:https://berobowlo.com.au/event/weekly-lunch-specials/2026-03-16/
CATEGORIES:Weekly Events
END:VEVENT
BEGIN:VEVENT
DTSTART;TZID=UTC:20260316T153000
DTEND;TZID=UTC:20260316T173000
DTSTAMP:20260424T134028
CREATED:20240207T010233Z
LAST-MODIFIED:20260213T044035Z
UID:10036103-1773675000-1773682200@berobowlo.com.au
SUMMARY:Happy Hour
DESCRIPTION:
URL:https://berobowlo.com.au/event/happy-hour/2026-03-16/
CATEGORIES:Weekly Events
END:VEVENT
BEGIN:VEVENT
DTSTART;TZID=UTC:20260316T173000
DTEND;TZID=UTC:20260316T173000
DTSTAMP:20260424T134028
CREATED:20240726T044813Z
LAST-MODIFIED:20260331T003726Z
UID:10006432-1773682200-1773682200@berobowlo.com.au
SUMMARY:Kids Eat Free
DESCRIPTION:Every Monday @ 5.30pm
URL:https://berobowlo.com.au/event/kids-eat-free/2026-03-16/
CATEGORIES:Weekly Events
END:VEVENT
BEGIN:VEVENT
DTSTART;TZID=UTC:20260317T114500
DTEND;TZID=UTC:20260317T140000
DTSTAMP:20260424T134028
CREATED:20240207T010925Z
LAST-MODIFIED:20260313T011827Z
UID:10003752-1773747900-1773756000@berobowlo.com.au
SUMMARY:Weekly Lunch Specials
DESCRIPTION:
URL:https://berobowlo.com.au/event/weekly-lunch-specials/2026-03-17/
CATEGORIES:Weekly Events
END:VEVENT
BEGIN:VEVENT
DTSTART;TZID=UTC:20260317T153000
DTEND;TZID=UTC:20260317T173000
DTSTAMP:20260424T134028
CREATED:20240207T010233Z
LAST-MODIFIED:20260213T044035Z
UID:10036104-1773761400-1773768600@berobowlo.com.au
SUMMARY:Happy Hour
DESCRIPTION:
URL:https://berobowlo.com.au/event/happy-hour/2026-03-17/
CATEGORIES:Weekly Events
END:VEVENT
BEGIN:VEVENT
DTSTART;TZID=UTC:20260317T183000
DTEND;TZID=UTC:20260317T183000
DTSTAMP:20260424T134028
CREATED:20240808T230735Z
LAST-MODIFIED:20240808T230948Z
UID:10021524-1773772200-1773772200@berobowlo.com.au
SUMMARY:Members’ Cash Draw
DESCRIPTION:Drawn at 6.30pm\, 7.30pm\, and 8.30pm every Tuesday
URL:https://berobowlo.com.au/event/members-cash-draw-2/2026-03-17/
CATEGORIES:Weekly Events
END:VEVENT
BEGIN:VEVENT
DTSTART;TZID=UTC:20260317T184500
DTEND;TZID=UTC:20260317T184500
DTSTAMP:20260424T134028
CREATED:20260115T024739Z
LAST-MODIFIED:20260316T045343Z
UID:10030692-1773773100-1773773100@berobowlo.com.au
SUMMARY:Weekly Meat Raffles
DESCRIPTION:
URL:https://berobowlo.com.au/event/weekly-meat-raffles-5/2026-03-17/
CATEGORIES:Weekly Events
END:VEVENT
BEGIN:VEVENT
DTSTART;TZID=UTC:20260318T110000
DTEND;TZID=UTC:20260318T110000
DTSTAMP:20260424T134028
CREATED:20240726T043900Z
LAST-MODIFIED:20241203T031220Z
UID:10007759-1773831600-1773831600@berobowlo.com.au
SUMMARY:Club Bingo
DESCRIPTION:Every Wednesday @ 11.00am
URL:https://berobowlo.com.au/event/bingo/2026-03-18/
CATEGORIES:Weekly Events
END:VEVENT
BEGIN:VEVENT
DTSTART;TZID=UTC:20260318T114500
DTEND;TZID=UTC:20260318T140000
DTSTAMP:20260424T134028
CREATED:20240207T010925Z
LAST-MODIFIED:20260313T011827Z
UID:10003753-1773834300-1773842400@berobowlo.com.au
SUMMARY:Weekly Lunch Specials
DESCRIPTION:
URL:https://berobowlo.com.au/event/weekly-lunch-specials/2026-03-18/
CATEGORIES:Weekly Events
END:VEVENT
BEGIN:VEVENT
DTSTART;TZID=UTC:20260318T153000
DTEND;TZID=UTC:20260318T173000
DTSTAMP:20260424T134028
CREATED:20240207T010233Z
LAST-MODIFIED:20260213T044035Z
UID:10036105-1773847800-1773855000@berobowlo.com.au
SUMMARY:Happy Hour
DESCRIPTION:
URL:https://berobowlo.com.au/event/happy-hour/2026-03-18/
CATEGORIES:Weekly Events
END:VEVENT
BEGIN:VEVENT
DTSTART;TZID=UTC:20260318T173000
DTEND;TZID=UTC:20260318T173000
DTSTAMP:20260424T134028
CREATED:20240726T045301Z
LAST-MODIFIED:20260330T012518Z
UID:10007227-1773855000-1773855000@berobowlo.com.au
SUMMARY:Wednesday Schnitzel Night
DESCRIPTION:Every Wednesday @ 5.30pm
URL:https://berobowlo.com.au/event/wednesday-schnitzel-night/2026-03-18/
CATEGORIES:Weekly Events
END:VEVENT
BEGIN:VEVENT
DTSTART;TZID=UTC:20260318T190000
DTEND;TZID=UTC:20260318T190000
DTSTAMP:20260424T134028
CREATED:20240819T024656Z
LAST-MODIFIED:20251219T003457Z
UID:10022648-1773860400-1773860400@berobowlo.com.au
SUMMARY:Poker Wednesday
DESCRIPTION:Play starts @ 7pm.
URL:https://berobowlo.com.au/event/poker-wednesday/2026-03-18/
CATEGORIES:Weekly Events
END:VEVENT
BEGIN:VEVENT
DTSTART;TZID=UTC:20260319T114500
DTEND;TZID=UTC:20260319T140000
DTSTAMP:20260424T134028
CREATED:20240207T010925Z
LAST-MODIFIED:20260313T011827Z
UID:10003754-1773920700-1773928800@berobowlo.com.au
SUMMARY:Weekly Lunch Specials
DESCRIPTION:
URL:https://berobowlo.com.au/event/weekly-lunch-specials/2026-03-19/
CATEGORIES:Weekly Events
END:VEVENT
BEGIN:VEVENT
DTSTART;TZID=UTC:20260319T153000
DTEND;TZID=UTC:20260319T173000
DTSTAMP:20260424T134028
CREATED:20240207T010233Z
LAST-MODIFIED:20260213T044035Z
UID:10036106-1773934200-1773941400@berobowlo.com.au
SUMMARY:Happy Hour
DESCRIPTION:
URL:https://berobowlo.com.au/event/happy-hour/2026-03-19/
CATEGORIES:Weekly Events
END:VEVENT
BEGIN:VEVENT
DTSTART;TZID=UTC:20260319T173000
DTEND;TZID=UTC:20260319T173000
DTSTAMP:20260424T134028
CREATED:20240726T050232Z
LAST-MODIFIED:20260330T012735Z
UID:10006962-1773941400-1773941400@berobowlo.com.au
SUMMARY:Thursday Steak Night
DESCRIPTION:Every Thursday @ 5.30pm
URL:https://berobowlo.com.au/event/thursday-steak-night-2/2026-03-19/
CATEGORIES:Weekly Events
END:VEVENT
BEGIN:VEVENT
DTSTART;TZID=UTC:20260319T190000
DTEND;TZID=UTC:20260319T190000
DTSTAMP:20260424T134028
CREATED:20250402T050930Z
LAST-MODIFIED:20260213T002822Z
UID:10027784-1773946800-1773946800@berobowlo.com.au
SUMMARY:Cash Housie Helicopter
DESCRIPTION:Thursdays at 7.00pm
URL:https://berobowlo.com.au/event/cash-housie-helicopter/2026-03-19/
CATEGORIES:Weekly Events
END:VEVENT
END:VCALENDAR