BEGIN:VCALENDAR
VERSION:2.0
PRODID:-//Beresfield Bowling Club - ECPv6.15.20//NONSGML v1.0//EN
CALSCALE:GREGORIAN
METHOD:PUBLISH
X-ORIGINAL-URL:https://berobowlo.com.au
X-WR-CALDESC:Events for Beresfield Bowling Club
REFRESH-INTERVAL;VALUE=DURATION:PT1H
X-Robots-Tag:noindex
X-PUBLISHED-TTL:PT1H
BEGIN:VTIMEZONE
TZID:UTC
BEGIN:STANDARD
TZOFFSETFROM:+0000
TZOFFSETTO:+0000
TZNAME:UTC
DTSTART:20240101T000000
END:STANDARD
END:VTIMEZONE
BEGIN:VEVENT
DTSTART;TZID=UTC:20251003T114500
DTEND;TZID=UTC:20251003T140000
DTSTAMP:20260423T142944
CREATED:20240207T010925Z
LAST-MODIFIED:20260313T011827Z
UID:10003635-1759491900-1759500000@berobowlo.com.au
SUMMARY:Weekly Lunch Specials
DESCRIPTION:
URL:https://berobowlo.com.au/event/weekly-lunch-specials/2025-10-03/
CATEGORIES:Weekly Events
END:VEVENT
BEGIN:VEVENT
DTSTART;TZID=UTC:20251003T153000
DTEND;TZID=UTC:20251003T173000
DTSTAMP:20260423T142944
CREATED:20240207T010233Z
LAST-MODIFIED:20260213T044035Z
UID:10035940-1759505400-1759512600@berobowlo.com.au
SUMMARY:Happy Hour
DESCRIPTION:
URL:https://berobowlo.com.au/event/happy-hour/2025-10-03/
CATEGORIES:Weekly Events
END:VEVENT
BEGIN:VEVENT
DTSTART;TZID=UTC:20251004T130000
DTEND;TZID=UTC:20251004T130000
DTSTAMP:20260423T142944
CREATED:20250403T014526Z
LAST-MODIFIED:20260213T002834Z
UID:10028081-1759582800-1759582800@berobowlo.com.au
SUMMARY:Cash Housie
DESCRIPTION:Saturdays at 1pm\nSundays at 1.30pm
URL:https://berobowlo.com.au/event/cash-housie/2025-10-04/
CATEGORIES:Weekly Events
END:VEVENT
BEGIN:VEVENT
DTSTART;TZID=UTC:20251004T153000
DTEND;TZID=UTC:20251004T173000
DTSTAMP:20260423T142944
CREATED:20240207T010233Z
LAST-MODIFIED:20260213T044035Z
UID:10035941-1759591800-1759599000@berobowlo.com.au
SUMMARY:Happy Hour
DESCRIPTION:
URL:https://berobowlo.com.au/event/happy-hour/2025-10-04/
CATEGORIES:Weekly Events
END:VEVENT
BEGIN:VEVENT
DTSTART;TZID=UTC:20251005T133000
DTEND;TZID=UTC:20251005T133000
DTSTAMP:20260423T142944
CREATED:20250403T015009Z
LAST-MODIFIED:20260213T043741Z
UID:10028341-1759671000-1759671000@berobowlo.com.au
SUMMARY:Cash Housie
DESCRIPTION:Saturdays at 1pm\nSundays at 1.30pm
URL:https://berobowlo.com.au/event/cash-housie-5/2025-10-05/
CATEGORIES:Weekly Events
END:VEVENT
BEGIN:VEVENT
DTSTART;TZID=UTC:20251005T153000
DTEND;TZID=UTC:20251005T173000
DTSTAMP:20260423T142944
CREATED:20240207T010233Z
LAST-MODIFIED:20260213T044035Z
UID:10035942-1759678200-1759685400@berobowlo.com.au
SUMMARY:Happy Hour
DESCRIPTION:
URL:https://berobowlo.com.au/event/happy-hour/2025-10-05/
CATEGORIES:Weekly Events
END:VEVENT
BEGIN:VEVENT
DTSTART;TZID=UTC:20251006T114500
DTEND;TZID=UTC:20251006T140000
DTSTAMP:20260423T142944
CREATED:20240207T010925Z
LAST-MODIFIED:20260313T011827Z
UID:10003636-1759751100-1759759200@berobowlo.com.au
SUMMARY:Weekly Lunch Specials
DESCRIPTION:
URL:https://berobowlo.com.au/event/weekly-lunch-specials/2025-10-06/
CATEGORIES:Weekly Events
END:VEVENT
BEGIN:VEVENT
DTSTART;TZID=UTC:20251006T153000
DTEND;TZID=UTC:20251006T173000
DTSTAMP:20260423T142944
CREATED:20240207T010233Z
LAST-MODIFIED:20260213T044035Z
UID:10035943-1759764600-1759771800@berobowlo.com.au
SUMMARY:Happy Hour
DESCRIPTION:
URL:https://berobowlo.com.au/event/happy-hour/2025-10-06/
CATEGORIES:Weekly Events
END:VEVENT
BEGIN:VEVENT
DTSTART;TZID=UTC:20251006T173000
DTEND;TZID=UTC:20251006T173000
DTSTAMP:20260423T142944
CREATED:20240726T044813Z
LAST-MODIFIED:20260331T003726Z
UID:10006409-1759771800-1759771800@berobowlo.com.au
SUMMARY:Kids Eat Free
DESCRIPTION:Every Monday @ 5.30pm
URL:https://berobowlo.com.au/event/kids-eat-free/2025-10-06/
CATEGORIES:Weekly Events
END:VEVENT
BEGIN:VEVENT
DTSTART;TZID=UTC:20251007T114500
DTEND;TZID=UTC:20251007T140000
DTSTAMP:20260423T142944
CREATED:20240207T010925Z
LAST-MODIFIED:20260313T011827Z
UID:10003637-1759837500-1759845600@berobowlo.com.au
SUMMARY:Weekly Lunch Specials
DESCRIPTION:
URL:https://berobowlo.com.au/event/weekly-lunch-specials/2025-10-07/
CATEGORIES:Weekly Events
END:VEVENT
BEGIN:VEVENT
DTSTART;TZID=UTC:20251007T153000
DTEND;TZID=UTC:20251007T173000
DTSTAMP:20260423T142944
CREATED:20240207T010233Z
LAST-MODIFIED:20260213T044035Z
UID:10035944-1759851000-1759858200@berobowlo.com.au
SUMMARY:Happy Hour
DESCRIPTION:
URL:https://berobowlo.com.au/event/happy-hour/2025-10-07/
CATEGORIES:Weekly Events
END:VEVENT
BEGIN:VEVENT
DTSTART;TZID=UTC:20251007T183000
DTEND;TZID=UTC:20251007T183000
DTSTAMP:20260423T142944
CREATED:20240808T230735Z
LAST-MODIFIED:20240808T230948Z
UID:10021501-1759861800-1759861800@berobowlo.com.au
SUMMARY:Members’ Cash Draw
DESCRIPTION:Drawn at 6.30pm\, 7.30pm\, and 8.30pm every Tuesday
URL:https://berobowlo.com.au/event/members-cash-draw-2/2025-10-07/
CATEGORIES:Weekly Events
END:VEVENT
BEGIN:VEVENT
DTSTART;TZID=UTC:20251008T110000
DTEND;TZID=UTC:20251008T110000
DTSTAMP:20260423T142944
CREATED:20240726T043900Z
LAST-MODIFIED:20241203T031220Z
UID:10007667-1759921200-1759921200@berobowlo.com.au
SUMMARY:Club Bingo
DESCRIPTION:Every Wednesday @ 11.00am
URL:https://berobowlo.com.au/event/bingo/2025-10-08/
CATEGORIES:Weekly Events
END:VEVENT
BEGIN:VEVENT
DTSTART;TZID=UTC:20251008T114500
DTEND;TZID=UTC:20251008T140000
DTSTAMP:20260423T142944
CREATED:20240207T010925Z
LAST-MODIFIED:20260313T011827Z
UID:10003638-1759923900-1759932000@berobowlo.com.au
SUMMARY:Weekly Lunch Specials
DESCRIPTION:
URL:https://berobowlo.com.au/event/weekly-lunch-specials/2025-10-08/
CATEGORIES:Weekly Events
END:VEVENT
BEGIN:VEVENT
DTSTART;TZID=UTC:20251008T153000
DTEND;TZID=UTC:20251008T173000
DTSTAMP:20260423T142944
CREATED:20240207T010233Z
LAST-MODIFIED:20260213T044035Z
UID:10035945-1759937400-1759944600@berobowlo.com.au
SUMMARY:Happy Hour
DESCRIPTION:
URL:https://berobowlo.com.au/event/happy-hour/2025-10-08/
CATEGORIES:Weekly Events
END:VEVENT
BEGIN:VEVENT
DTSTART;TZID=UTC:20251008T173000
DTEND;TZID=UTC:20251008T173000
DTSTAMP:20260423T142944
CREATED:20240726T045301Z
LAST-MODIFIED:20260330T012518Z
UID:10007204-1759944600-1759944600@berobowlo.com.au
SUMMARY:Wednesday Schnitzel Night
DESCRIPTION:Every Wednesday @ 5.30pm
URL:https://berobowlo.com.au/event/wednesday-schnitzel-night/2025-10-08/
CATEGORIES:Weekly Events
END:VEVENT
BEGIN:VEVENT
DTSTART;TZID=UTC:20251008T190000
DTEND;TZID=UTC:20251008T190000
DTSTAMP:20260423T142944
CREATED:20240819T024656Z
LAST-MODIFIED:20251219T003457Z
UID:10022625-1759950000-1759950000@berobowlo.com.au
SUMMARY:Poker Wednesday
DESCRIPTION:Play starts @ 7pm.
URL:https://berobowlo.com.au/event/poker-wednesday/2025-10-08/
CATEGORIES:Weekly Events
END:VEVENT
BEGIN:VEVENT
DTSTART;TZID=UTC:20251009T114500
DTEND;TZID=UTC:20251009T140000
DTSTAMP:20260423T142944
CREATED:20240207T010925Z
LAST-MODIFIED:20260313T011827Z
UID:10003639-1760010300-1760018400@berobowlo.com.au
SUMMARY:Weekly Lunch Specials
DESCRIPTION:
URL:https://berobowlo.com.au/event/weekly-lunch-specials/2025-10-09/
CATEGORIES:Weekly Events
END:VEVENT
BEGIN:VEVENT
DTSTART;TZID=UTC:20251009T153000
DTEND;TZID=UTC:20251009T173000
DTSTAMP:20260423T142944
CREATED:20240207T010233Z
LAST-MODIFIED:20260213T044035Z
UID:10035946-1760023800-1760031000@berobowlo.com.au
SUMMARY:Happy Hour
DESCRIPTION:
URL:https://berobowlo.com.au/event/happy-hour/2025-10-09/
CATEGORIES:Weekly Events
END:VEVENT
BEGIN:VEVENT
DTSTART;TZID=UTC:20251009T173000
DTEND;TZID=UTC:20251009T173000
DTSTAMP:20260423T142944
CREATED:20240726T050232Z
LAST-MODIFIED:20260330T012735Z
UID:10006939-1760031000-1760031000@berobowlo.com.au
SUMMARY:Thursday Steak Night
DESCRIPTION:Every Thursday @ 5.30pm
URL:https://berobowlo.com.au/event/thursday-steak-night-2/2025-10-09/
CATEGORIES:Weekly Events
END:VEVENT
BEGIN:VEVENT
DTSTART;TZID=UTC:20251009T190000
DTEND;TZID=UTC:20251009T190000
DTSTAMP:20260423T142944
CREATED:20250402T050930Z
LAST-MODIFIED:20260213T002822Z
UID:10027761-1760036400-1760036400@berobowlo.com.au
SUMMARY:Cash Housie Helicopter
DESCRIPTION:Thursdays at 7.00pm
URL:https://berobowlo.com.au/event/cash-housie-helicopter/2025-10-09/
CATEGORIES:Weekly Events
END:VEVENT
BEGIN:VEVENT
DTSTART;TZID=UTC:20251010T114500
DTEND;TZID=UTC:20251010T140000
DTSTAMP:20260423T142944
CREATED:20240207T010925Z
LAST-MODIFIED:20260313T011827Z
UID:10003640-1760096700-1760104800@berobowlo.com.au
SUMMARY:Weekly Lunch Specials
DESCRIPTION:
URL:https://berobowlo.com.au/event/weekly-lunch-specials/2025-10-10/
CATEGORIES:Weekly Events
END:VEVENT
BEGIN:VEVENT
DTSTART;TZID=UTC:20251010T153000
DTEND;TZID=UTC:20251010T173000
DTSTAMP:20260423T142944
CREATED:20240207T010233Z
LAST-MODIFIED:20260213T044035Z
UID:10035947-1760110200-1760117400@berobowlo.com.au
SUMMARY:Happy Hour
DESCRIPTION:
URL:https://berobowlo.com.au/event/happy-hour/2025-10-10/
CATEGORIES:Weekly Events
END:VEVENT
BEGIN:VEVENT
DTSTART;TZID=UTC:20251011T130000
DTEND;TZID=UTC:20251011T130000
DTSTAMP:20260423T142944
CREATED:20250403T014526Z
LAST-MODIFIED:20260213T002834Z
UID:10028082-1760187600-1760187600@berobowlo.com.au
SUMMARY:Cash Housie
DESCRIPTION:Saturdays at 1pm\nSundays at 1.30pm
URL:https://berobowlo.com.au/event/cash-housie/2025-10-11/
CATEGORIES:Weekly Events
END:VEVENT
BEGIN:VEVENT
DTSTART;TZID=UTC:20251011T153000
DTEND;TZID=UTC:20251011T173000
DTSTAMP:20260423T142944
CREATED:20240207T010233Z
LAST-MODIFIED:20260213T044035Z
UID:10035948-1760196600-1760203800@berobowlo.com.au
SUMMARY:Happy Hour
DESCRIPTION:
URL:https://berobowlo.com.au/event/happy-hour/2025-10-11/
CATEGORIES:Weekly Events
END:VEVENT
BEGIN:VEVENT
DTSTART;TZID=UTC:20251012T133000
DTEND;TZID=UTC:20251012T133000
DTSTAMP:20260423T142944
CREATED:20250403T015009Z
LAST-MODIFIED:20260213T043741Z
UID:10028342-1760275800-1760275800@berobowlo.com.au
SUMMARY:Cash Housie
DESCRIPTION:Saturdays at 1pm\nSundays at 1.30pm
URL:https://berobowlo.com.au/event/cash-housie-5/2025-10-12/
CATEGORIES:Weekly Events
END:VEVENT
BEGIN:VEVENT
DTSTART;TZID=UTC:20251012T153000
DTEND;TZID=UTC:20251012T173000
DTSTAMP:20260423T142944
CREATED:20240207T010233Z
LAST-MODIFIED:20260213T044035Z
UID:10035949-1760283000-1760290200@berobowlo.com.au
SUMMARY:Happy Hour
DESCRIPTION:
URL:https://berobowlo.com.au/event/happy-hour/2025-10-12/
CATEGORIES:Weekly Events
END:VEVENT
BEGIN:VEVENT
DTSTART;TZID=UTC:20251012T173000
DTEND;TZID=UTC:20251012T173000
DTSTAMP:20260423T142944
CREATED:20240806T023833Z
LAST-MODIFIED:20251006T215636Z
UID:10018167-1760290200-1760290200@berobowlo.com.au
SUMMARY:Red Dirt Country Band with Special Guest Artist
DESCRIPTION:Every Sunday at 5.30pm
URL:https://berobowlo.com.au/event/red-dirt-country-band/2025-10-12/
CATEGORIES:Live Entertainment
END:VEVENT
BEGIN:VEVENT
DTSTART;TZID=UTC:20251013T114500
DTEND;TZID=UTC:20251013T140000
DTSTAMP:20260423T142944
CREATED:20240207T010925Z
LAST-MODIFIED:20260313T011827Z
UID:10003641-1760355900-1760364000@berobowlo.com.au
SUMMARY:Weekly Lunch Specials
DESCRIPTION:
URL:https://berobowlo.com.au/event/weekly-lunch-specials/2025-10-13/
CATEGORIES:Weekly Events
END:VEVENT
BEGIN:VEVENT
DTSTART;TZID=UTC:20251013T153000
DTEND;TZID=UTC:20251013T173000
DTSTAMP:20260423T142944
CREATED:20240207T010233Z
LAST-MODIFIED:20260213T044035Z
UID:10035950-1760369400-1760376600@berobowlo.com.au
SUMMARY:Happy Hour
DESCRIPTION:
URL:https://berobowlo.com.au/event/happy-hour/2025-10-13/
CATEGORIES:Weekly Events
END:VEVENT
END:VCALENDAR