BEGIN:VCALENDAR
VERSION:2.0
PRODID:-//Beresfield Bowling Club - ECPv6.15.20//NONSGML v1.0//EN
CALSCALE:GREGORIAN
METHOD:PUBLISH
X-ORIGINAL-URL:https://berobowlo.com.au
X-WR-CALDESC:Events for Beresfield Bowling Club
REFRESH-INTERVAL;VALUE=DURATION:PT1H
X-Robots-Tag:noindex
X-PUBLISHED-TTL:PT1H
BEGIN:VTIMEZONE
TZID:UTC
BEGIN:STANDARD
TZOFFSETFROM:+0000
TZOFFSETTO:+0000
TZNAME:UTC
DTSTART:20240101T000000
END:STANDARD
END:VTIMEZONE
BEGIN:VEVENT
DTSTART;TZID=UTC:20250927T130000
DTEND;TZID=UTC:20250927T130000
DTSTAMP:20260425T215500
CREATED:20250403T014526Z
LAST-MODIFIED:20260213T002834Z
UID:10028080-1758978000-1758978000@berobowlo.com.au
SUMMARY:Cash Housie
DESCRIPTION:Saturdays at 1pm\nSundays at 1.30pm
URL:https://berobowlo.com.au/event/cash-housie/2025-09-27/
CATEGORIES:Weekly Events
END:VEVENT
BEGIN:VEVENT
DTSTART;TZID=UTC:20250927T153000
DTEND;TZID=UTC:20250927T173000
DTSTAMP:20260425T215500
CREATED:20240207T010233Z
LAST-MODIFIED:20260213T044035Z
UID:10035934-1758987000-1758994200@berobowlo.com.au
SUMMARY:Happy Hour
DESCRIPTION:
URL:https://berobowlo.com.au/event/happy-hour/2025-09-27/
CATEGORIES:Weekly Events
END:VEVENT
BEGIN:VEVENT
DTSTART;TZID=UTC:20250928T133000
DTEND;TZID=UTC:20250928T133000
DTSTAMP:20260425T215500
CREATED:20250403T015009Z
LAST-MODIFIED:20260213T043741Z
UID:10028340-1759066200-1759066200@berobowlo.com.au
SUMMARY:Cash Housie
DESCRIPTION:Saturdays at 1pm\nSundays at 1.30pm
URL:https://berobowlo.com.au/event/cash-housie-5/2025-09-28/
CATEGORIES:Weekly Events
END:VEVENT
BEGIN:VEVENT
DTSTART;TZID=UTC:20250928T153000
DTEND;TZID=UTC:20250928T173000
DTSTAMP:20260425T215500
CREATED:20240207T010233Z
LAST-MODIFIED:20260213T044035Z
UID:10035935-1759073400-1759080600@berobowlo.com.au
SUMMARY:Happy Hour
DESCRIPTION:
URL:https://berobowlo.com.au/event/happy-hour/2025-09-28/
CATEGORIES:Weekly Events
END:VEVENT
BEGIN:VEVENT
DTSTART;TZID=UTC:20250928T173000
DTEND;TZID=UTC:20250928T173000
DTSTAMP:20260425T215500
CREATED:20240806T023833Z
LAST-MODIFIED:20251006T215636Z
UID:10018165-1759080600-1759080600@berobowlo.com.au
SUMMARY:Red Dirt Country Band with Special Guest Artist
DESCRIPTION:Every Sunday at 5.30pm
URL:https://berobowlo.com.au/event/red-dirt-country-band/2025-09-28/
CATEGORIES:Live Entertainment
END:VEVENT
BEGIN:VEVENT
DTSTART;TZID=UTC:20250929T114500
DTEND;TZID=UTC:20250929T140000
DTSTAMP:20260425T215501
CREATED:20240207T010925Z
LAST-MODIFIED:20260313T011827Z
UID:10003631-1759146300-1759154400@berobowlo.com.au
SUMMARY:Weekly Lunch Specials
DESCRIPTION:
URL:https://berobowlo.com.au/event/weekly-lunch-specials/2025-09-29/
CATEGORIES:Weekly Events
END:VEVENT
BEGIN:VEVENT
DTSTART;TZID=UTC:20250929T153000
DTEND;TZID=UTC:20250929T173000
DTSTAMP:20260425T215501
CREATED:20240207T010233Z
LAST-MODIFIED:20260213T044035Z
UID:10035936-1759159800-1759167000@berobowlo.com.au
SUMMARY:Happy Hour
DESCRIPTION:
URL:https://berobowlo.com.au/event/happy-hour/2025-09-29/
CATEGORIES:Weekly Events
END:VEVENT
BEGIN:VEVENT
DTSTART;TZID=UTC:20250929T173000
DTEND;TZID=UTC:20250929T173000
DTSTAMP:20260425T215501
CREATED:20240726T044813Z
LAST-MODIFIED:20260331T003726Z
UID:10006408-1759167000-1759167000@berobowlo.com.au
SUMMARY:Kids Eat Free
DESCRIPTION:Every Monday @ 5.30pm
URL:https://berobowlo.com.au/event/kids-eat-free/2025-09-29/
CATEGORIES:Weekly Events
END:VEVENT
BEGIN:VEVENT
DTSTART;TZID=UTC:20250930T114500
DTEND;TZID=UTC:20250930T140000
DTSTAMP:20260425T215501
CREATED:20240207T010925Z
LAST-MODIFIED:20260313T011827Z
UID:10003632-1759232700-1759240800@berobowlo.com.au
SUMMARY:Weekly Lunch Specials
DESCRIPTION:
URL:https://berobowlo.com.au/event/weekly-lunch-specials/2025-09-30/
CATEGORIES:Weekly Events
END:VEVENT
BEGIN:VEVENT
DTSTART;TZID=UTC:20250930T153000
DTEND;TZID=UTC:20250930T173000
DTSTAMP:20260425T215501
CREATED:20240207T010233Z
LAST-MODIFIED:20260213T044035Z
UID:10035937-1759246200-1759253400@berobowlo.com.au
SUMMARY:Happy Hour
DESCRIPTION:
URL:https://berobowlo.com.au/event/happy-hour/2025-09-30/
CATEGORIES:Weekly Events
END:VEVENT
BEGIN:VEVENT
DTSTART;TZID=UTC:20250930T183000
DTEND;TZID=UTC:20250930T183000
DTSTAMP:20260425T215501
CREATED:20240808T230735Z
LAST-MODIFIED:20240808T230948Z
UID:10021500-1759257000-1759257000@berobowlo.com.au
SUMMARY:Members’ Cash Draw
DESCRIPTION:Drawn at 6.30pm\, 7.30pm\, and 8.30pm every Tuesday
URL:https://berobowlo.com.au/event/members-cash-draw-2/2025-09-30/
CATEGORIES:Weekly Events
END:VEVENT
BEGIN:VEVENT
DTSTART;TZID=UTC:20251001T110000
DTEND;TZID=UTC:20251001T110000
DTSTAMP:20260425T215501
CREATED:20240726T043900Z
LAST-MODIFIED:20241203T031220Z
UID:10007663-1759316400-1759316400@berobowlo.com.au
SUMMARY:Club Bingo
DESCRIPTION:Every Wednesday @ 11.00am
URL:https://berobowlo.com.au/event/bingo/2025-10-01/
CATEGORIES:Weekly Events
END:VEVENT
BEGIN:VEVENT
DTSTART;TZID=UTC:20251001T114500
DTEND;TZID=UTC:20251001T140000
DTSTAMP:20260425T215501
CREATED:20240207T010925Z
LAST-MODIFIED:20260313T011827Z
UID:10003633-1759319100-1759327200@berobowlo.com.au
SUMMARY:Weekly Lunch Specials
DESCRIPTION:
URL:https://berobowlo.com.au/event/weekly-lunch-specials/2025-10-01/
CATEGORIES:Weekly Events
END:VEVENT
BEGIN:VEVENT
DTSTART;TZID=UTC:20251001T153000
DTEND;TZID=UTC:20251001T173000
DTSTAMP:20260425T215501
CREATED:20240207T010233Z
LAST-MODIFIED:20260213T044035Z
UID:10035938-1759332600-1759339800@berobowlo.com.au
SUMMARY:Happy Hour
DESCRIPTION:
URL:https://berobowlo.com.au/event/happy-hour/2025-10-01/
CATEGORIES:Weekly Events
END:VEVENT
BEGIN:VEVENT
DTSTART;TZID=UTC:20251001T173000
DTEND;TZID=UTC:20251001T173000
DTSTAMP:20260425T215501
CREATED:20240726T045301Z
LAST-MODIFIED:20260330T012518Z
UID:10007203-1759339800-1759339800@berobowlo.com.au
SUMMARY:Wednesday Schnitzel Night
DESCRIPTION:Every Wednesday @ 5.30pm
URL:https://berobowlo.com.au/event/wednesday-schnitzel-night/2025-10-01/
CATEGORIES:Weekly Events
END:VEVENT
BEGIN:VEVENT
DTSTART;TZID=UTC:20251001T190000
DTEND;TZID=UTC:20251001T190000
DTSTAMP:20260425T215501
CREATED:20240819T024656Z
LAST-MODIFIED:20251219T003457Z
UID:10022624-1759345200-1759345200@berobowlo.com.au
SUMMARY:Poker Wednesday
DESCRIPTION:Play starts @ 7pm.
URL:https://berobowlo.com.au/event/poker-wednesday/2025-10-01/
CATEGORIES:Weekly Events
END:VEVENT
BEGIN:VEVENT
DTSTART;TZID=UTC:20251002T114500
DTEND;TZID=UTC:20251002T140000
DTSTAMP:20260425T215501
CREATED:20240207T010925Z
LAST-MODIFIED:20260313T011827Z
UID:10003634-1759405500-1759413600@berobowlo.com.au
SUMMARY:Weekly Lunch Specials
DESCRIPTION:
URL:https://berobowlo.com.au/event/weekly-lunch-specials/2025-10-02/
CATEGORIES:Weekly Events
END:VEVENT
BEGIN:VEVENT
DTSTART;TZID=UTC:20251002T153000
DTEND;TZID=UTC:20251002T173000
DTSTAMP:20260425T215501
CREATED:20240207T010233Z
LAST-MODIFIED:20260213T044035Z
UID:10035939-1759419000-1759426200@berobowlo.com.au
SUMMARY:Happy Hour
DESCRIPTION:
URL:https://berobowlo.com.au/event/happy-hour/2025-10-02/
CATEGORIES:Weekly Events
END:VEVENT
BEGIN:VEVENT
DTSTART;TZID=UTC:20251002T173000
DTEND;TZID=UTC:20251002T173000
DTSTAMP:20260425T215501
CREATED:20240726T050232Z
LAST-MODIFIED:20260330T012735Z
UID:10006938-1759426200-1759426200@berobowlo.com.au
SUMMARY:Thursday Steak Night
DESCRIPTION:Every Thursday @ 5.30pm
URL:https://berobowlo.com.au/event/thursday-steak-night-2/2025-10-02/
CATEGORIES:Weekly Events
END:VEVENT
BEGIN:VEVENT
DTSTART;TZID=UTC:20251002T190000
DTEND;TZID=UTC:20251002T190000
DTSTAMP:20260425T215501
CREATED:20250402T050930Z
LAST-MODIFIED:20260213T002822Z
UID:10027760-1759431600-1759431600@berobowlo.com.au
SUMMARY:Cash Housie Helicopter
DESCRIPTION:Thursdays at 7.00pm
URL:https://berobowlo.com.au/event/cash-housie-helicopter/2025-10-02/
CATEGORIES:Weekly Events
END:VEVENT
BEGIN:VEVENT
DTSTART;TZID=UTC:20251003T114500
DTEND;TZID=UTC:20251003T140000
DTSTAMP:20260425T215501
CREATED:20240207T010925Z
LAST-MODIFIED:20260313T011827Z
UID:10003635-1759491900-1759500000@berobowlo.com.au
SUMMARY:Weekly Lunch Specials
DESCRIPTION:
URL:https://berobowlo.com.au/event/weekly-lunch-specials/2025-10-03/
CATEGORIES:Weekly Events
END:VEVENT
BEGIN:VEVENT
DTSTART;TZID=UTC:20251003T153000
DTEND;TZID=UTC:20251003T173000
DTSTAMP:20260425T215501
CREATED:20240207T010233Z
LAST-MODIFIED:20260213T044035Z
UID:10035940-1759505400-1759512600@berobowlo.com.au
SUMMARY:Happy Hour
DESCRIPTION:
URL:https://berobowlo.com.au/event/happy-hour/2025-10-03/
CATEGORIES:Weekly Events
END:VEVENT
BEGIN:VEVENT
DTSTART;TZID=UTC:20251004T130000
DTEND;TZID=UTC:20251004T130000
DTSTAMP:20260425T215501
CREATED:20250403T014526Z
LAST-MODIFIED:20260213T002834Z
UID:10028081-1759582800-1759582800@berobowlo.com.au
SUMMARY:Cash Housie
DESCRIPTION:Saturdays at 1pm\nSundays at 1.30pm
URL:https://berobowlo.com.au/event/cash-housie/2025-10-04/
CATEGORIES:Weekly Events
END:VEVENT
BEGIN:VEVENT
DTSTART;TZID=UTC:20251004T153000
DTEND;TZID=UTC:20251004T173000
DTSTAMP:20260425T215501
CREATED:20240207T010233Z
LAST-MODIFIED:20260213T044035Z
UID:10035941-1759591800-1759599000@berobowlo.com.au
SUMMARY:Happy Hour
DESCRIPTION:
URL:https://berobowlo.com.au/event/happy-hour/2025-10-04/
CATEGORIES:Weekly Events
END:VEVENT
BEGIN:VEVENT
DTSTART;TZID=UTC:20251005T133000
DTEND;TZID=UTC:20251005T133000
DTSTAMP:20260425T215501
CREATED:20250403T015009Z
LAST-MODIFIED:20260213T043741Z
UID:10028341-1759671000-1759671000@berobowlo.com.au
SUMMARY:Cash Housie
DESCRIPTION:Saturdays at 1pm\nSundays at 1.30pm
URL:https://berobowlo.com.au/event/cash-housie-5/2025-10-05/
CATEGORIES:Weekly Events
END:VEVENT
BEGIN:VEVENT
DTSTART;TZID=UTC:20251005T153000
DTEND;TZID=UTC:20251005T173000
DTSTAMP:20260425T215501
CREATED:20240207T010233Z
LAST-MODIFIED:20260213T044035Z
UID:10035942-1759678200-1759685400@berobowlo.com.au
SUMMARY:Happy Hour
DESCRIPTION:
URL:https://berobowlo.com.au/event/happy-hour/2025-10-05/
CATEGORIES:Weekly Events
END:VEVENT
BEGIN:VEVENT
DTSTART;TZID=UTC:20251006T114500
DTEND;TZID=UTC:20251006T140000
DTSTAMP:20260425T215501
CREATED:20240207T010925Z
LAST-MODIFIED:20260313T011827Z
UID:10003636-1759751100-1759759200@berobowlo.com.au
SUMMARY:Weekly Lunch Specials
DESCRIPTION:
URL:https://berobowlo.com.au/event/weekly-lunch-specials/2025-10-06/
CATEGORIES:Weekly Events
END:VEVENT
BEGIN:VEVENT
DTSTART;TZID=UTC:20251006T153000
DTEND;TZID=UTC:20251006T173000
DTSTAMP:20260425T215501
CREATED:20240207T010233Z
LAST-MODIFIED:20260213T044035Z
UID:10035943-1759764600-1759771800@berobowlo.com.au
SUMMARY:Happy Hour
DESCRIPTION:
URL:https://berobowlo.com.au/event/happy-hour/2025-10-06/
CATEGORIES:Weekly Events
END:VEVENT
BEGIN:VEVENT
DTSTART;TZID=UTC:20251006T173000
DTEND;TZID=UTC:20251006T173000
DTSTAMP:20260425T215501
CREATED:20240726T044813Z
LAST-MODIFIED:20260331T003726Z
UID:10006409-1759771800-1759771800@berobowlo.com.au
SUMMARY:Kids Eat Free
DESCRIPTION:Every Monday @ 5.30pm
URL:https://berobowlo.com.au/event/kids-eat-free/2025-10-06/
CATEGORIES:Weekly Events
END:VEVENT
BEGIN:VEVENT
DTSTART;TZID=UTC:20251007T114500
DTEND;TZID=UTC:20251007T140000
DTSTAMP:20260425T215501
CREATED:20240207T010925Z
LAST-MODIFIED:20260313T011827Z
UID:10003637-1759837500-1759845600@berobowlo.com.au
SUMMARY:Weekly Lunch Specials
DESCRIPTION:
URL:https://berobowlo.com.au/event/weekly-lunch-specials/2025-10-07/
CATEGORIES:Weekly Events
END:VEVENT
END:VCALENDAR