BEGIN:VCALENDAR
VERSION:2.0
PRODID:-//Beresfield Bowling Club - ECPv6.15.20//NONSGML v1.0//EN
CALSCALE:GREGORIAN
METHOD:PUBLISH
X-WR-CALNAME:Beresfield Bowling Club
X-ORIGINAL-URL:https://berobowlo.com.au
X-WR-CALDESC:Events for Beresfield Bowling Club
REFRESH-INTERVAL;VALUE=DURATION:PT1H
X-Robots-Tag:noindex
X-PUBLISHED-TTL:PT1H
BEGIN:VTIMEZONE
TZID:UTC
BEGIN:STANDARD
TZOFFSETFROM:+0000
TZOFFSETTO:+0000
TZNAME:UTC
DTSTART:20250101T000000
END:STANDARD
END:VTIMEZONE
BEGIN:VEVENT
DTSTART;TZID=UTC:20260128T110000
DTEND;TZID=UTC:20260128T110000
DTSTAMP:20260421T000423
CREATED:20240726T043900Z
LAST-MODIFIED:20241203T031220Z
UID:10007731-1769598000-1769598000@berobowlo.com.au
SUMMARY:Club Bingo
DESCRIPTION:Every Wednesday @ 11.00am
URL:https://berobowlo.com.au/event/bingo/2026-01-28/
CATEGORIES:Weekly Events
END:VEVENT
BEGIN:VEVENT
DTSTART;TZID=UTC:20260128T114500
DTEND;TZID=UTC:20260128T140000
DTSTAMP:20260421T000423
CREATED:20240207T010925Z
LAST-MODIFIED:20260313T011827Z
UID:10003718-1769600700-1769608800@berobowlo.com.au
SUMMARY:Weekly Lunch Specials
DESCRIPTION:
URL:https://berobowlo.com.au/event/weekly-lunch-specials/2026-01-28/
CATEGORIES:Weekly Events
END:VEVENT
BEGIN:VEVENT
DTSTART;TZID=UTC:20260128T153000
DTEND;TZID=UTC:20260128T173000
DTSTAMP:20260421T000423
CREATED:20240207T010233Z
LAST-MODIFIED:20260213T044035Z
UID:10036056-1769614200-1769621400@berobowlo.com.au
SUMMARY:Happy Hour
DESCRIPTION:
URL:https://berobowlo.com.au/event/happy-hour/2026-01-28/
CATEGORIES:Weekly Events
END:VEVENT
BEGIN:VEVENT
DTSTART;TZID=UTC:20260128T173000
DTEND;TZID=UTC:20260128T173000
DTSTAMP:20260421T000423
CREATED:20240726T045301Z
LAST-MODIFIED:20260330T012518Z
UID:10007220-1769621400-1769621400@berobowlo.com.au
SUMMARY:Wednesday Schnitzel Night
DESCRIPTION:Every Wednesday @ 5.30pm
URL:https://berobowlo.com.au/event/wednesday-schnitzel-night/2026-01-28/
CATEGORIES:Weekly Events
END:VEVENT
BEGIN:VEVENT
DTSTART;TZID=UTC:20260128T190000
DTEND;TZID=UTC:20260128T190000
DTSTAMP:20260421T000423
CREATED:20240819T024656Z
LAST-MODIFIED:20251219T003457Z
UID:10022641-1769626800-1769626800@berobowlo.com.au
SUMMARY:Poker Wednesday
DESCRIPTION:Play starts @ 7pm.
URL:https://berobowlo.com.au/event/poker-wednesday/2026-01-28/
CATEGORIES:Weekly Events
END:VEVENT
BEGIN:VEVENT
DTSTART;TZID=UTC:20260128T190000
DTEND;TZID=UTC:20260128T190000
DTSTAMP:20260421T000423
CREATED:20250221T024818Z
LAST-MODIFIED:20251021T020405Z
UID:10027150-1769626800-1769626800@berobowlo.com.au
SUMMARY:Members’ Birthday Draw
DESCRIPTION:Draws 7pm\, 7.15pm. 7.30pm\, 7.45pm & 8pm \n 
URL:https://berobowlo.com.au/event/members-birthday-draw-3/2026-01-28/
CATEGORIES:Weekly Events
END:VEVENT
BEGIN:VEVENT
DTSTART;TZID=UTC:20260129T173000
DTEND;TZID=UTC:20260129T173000
DTSTAMP:20260421T000423
CREATED:20240726T050232Z
LAST-MODIFIED:20260330T012735Z
UID:10006955-1769707800-1769707800@berobowlo.com.au
SUMMARY:Thursday Steak Night
DESCRIPTION:Every Thursday @ 5.30pm
URL:https://berobowlo.com.au/event/thursday-steak-night-2/2026-01-29/
CATEGORIES:Weekly Events
END:VEVENT
BEGIN:VEVENT
DTSTART;TZID=UTC:20260129T190000
DTEND;TZID=UTC:20260129T190000
DTSTAMP:20260421T000423
CREATED:20250402T050930Z
LAST-MODIFIED:20260213T002822Z
UID:10027777-1769713200-1769713200@berobowlo.com.au
SUMMARY:Cash Housie Helicopter
DESCRIPTION:Thursdays at 7.00pm
URL:https://berobowlo.com.au/event/cash-housie-helicopter/2026-01-29/
CATEGORIES:Weekly Events
END:VEVENT
BEGIN:VEVENT
DTSTART;TZID=UTC:20260130T184500
DTEND;TZID=UTC:20260130T184500
DTSTAMP:20260421T000423
CREATED:20260115T024739Z
LAST-MODIFIED:20260316T045343Z
UID:10030666-1769798700-1769798700@berobowlo.com.au
SUMMARY:Weekly Meat Raffles
DESCRIPTION:
URL:https://berobowlo.com.au/event/weekly-meat-raffles-5/2026-01-30/
CATEGORIES:Weekly Events
END:VEVENT
BEGIN:VEVENT
DTSTART;TZID=UTC:20260130T200000
DTEND;TZID=UTC:20260130T200000
DTSTAMP:20260421T000423
CREATED:20251218T035024Z
LAST-MODIFIED:20260105T011421Z
UID:10029815-1769803200-1769803200@berobowlo.com.au
SUMMARY:The Versatiles
DESCRIPTION:
URL:https://berobowlo.com.au/event/the-versatiles/
CATEGORIES:Live Entertainment
END:VEVENT
BEGIN:VEVENT
DTSTART;TZID=UTC:20260131T130000
DTEND;TZID=UTC:20260131T130000
DTSTAMP:20260421T000423
CREATED:20250403T014526Z
LAST-MODIFIED:20260213T002834Z
UID:10028098-1769864400-1769864400@berobowlo.com.au
SUMMARY:Cash Housie
DESCRIPTION:Saturdays at 1pm\nSundays at 1.30pm
URL:https://berobowlo.com.au/event/cash-housie/2026-01-31/
CATEGORIES:Weekly Events
END:VEVENT
BEGIN:VEVENT
DTSTART;TZID=UTC:20260131T200000
DTEND;TZID=UTC:20260131T200000
DTSTAMP:20260421T000423
CREATED:20251218T035248Z
LAST-MODIFIED:20260105T011548Z
UID:10029816-1769889600-1769889600@berobowlo.com.au
SUMMARY:V Dubs
DESCRIPTION:
URL:https://berobowlo.com.au/event/v-dubs/
CATEGORIES:Live Entertainment
END:VEVENT
BEGIN:VEVENT
DTSTART;TZID=UTC:20260201T133000
DTEND;TZID=UTC:20260201T133000
DTSTAMP:20260421T000423
CREATED:20250403T015009Z
LAST-MODIFIED:20260213T043741Z
UID:10028358-1769952600-1769952600@berobowlo.com.au
SUMMARY:Cash Housie
DESCRIPTION:Saturdays at 1pm\nSundays at 1.30pm
URL:https://berobowlo.com.au/event/cash-housie-5/2026-02-01/
CATEGORIES:Weekly Events
END:VEVENT
BEGIN:VEVENT
DTSTART;TZID=UTC:20260201T173000
DTEND;TZID=UTC:20260201T173000
DTSTAMP:20260421T000423
CREATED:20240806T023833Z
LAST-MODIFIED:20251006T215636Z
UID:10018183-1769967000-1769967000@berobowlo.com.au
SUMMARY:Red Dirt Country Band with Special Guest Artist
DESCRIPTION:Every Sunday at 5.30pm
URL:https://berobowlo.com.au/event/red-dirt-country-band/2026-02-01/
CATEGORIES:Live Entertainment
END:VEVENT
BEGIN:VEVENT
DTSTART;TZID=UTC:20260202T173000
DTEND;TZID=UTC:20260202T173000
DTSTAMP:20260421T000423
CREATED:20240726T044813Z
LAST-MODIFIED:20260331T003726Z
UID:10006426-1770053400-1770053400@berobowlo.com.au
SUMMARY:Kids Eat Free
DESCRIPTION:Every Monday @ 5.30pm
URL:https://berobowlo.com.au/event/kids-eat-free/2026-02-02/
CATEGORIES:Weekly Events
END:VEVENT
BEGIN:VEVENT
DTSTART;TZID=UTC:20260203T183000
DTEND;TZID=UTC:20260203T183000
DTSTAMP:20260421T000423
CREATED:20240808T230735Z
LAST-MODIFIED:20240808T230948Z
UID:10021518-1770143400-1770143400@berobowlo.com.au
SUMMARY:Members’ Cash Draw
DESCRIPTION:Drawn at 6.30pm\, 7.30pm\, and 8.30pm every Tuesday
URL:https://berobowlo.com.au/event/members-cash-draw-2/2026-02-03/
CATEGORIES:Weekly Events
END:VEVENT
BEGIN:VEVENT
DTSTART;TZID=UTC:20260207T200000
DTEND;TZID=UTC:20260207T200000
DTSTAMP:20260421T000423
CREATED:20250317T013212Z
LAST-MODIFIED:20251218T035137Z
UID:10027131-1770494400-1770494400@berobowlo.com.au
SUMMARY:Adrenaline Crush
DESCRIPTION:
URL:https://berobowlo.com.au/event/adrenaline-crush/
CATEGORIES:Live Entertainment
END:VEVENT
BEGIN:VEVENT
DTSTART;TZID=UTC:20260213T200000
DTEND;TZID=UTC:20260213T200000
DTSTAMP:20260421T000423
CREATED:20240906T023116Z
LAST-MODIFIED:20251218T035638Z
UID:10023102-1771012800-1771012800@berobowlo.com.au
SUMMARY:Gen X
DESCRIPTION:
URL:https://berobowlo.com.au/event/gen-x-2/
CATEGORIES:Live Entertainment
END:VEVENT
BEGIN:VEVENT
DTSTART;TZID=UTC:20260220T200000
DTEND;TZID=UTC:20260220T200000
DTSTAMP:20260421T000423
CREATED:20240906T024957Z
LAST-MODIFIED:20251218T035827Z
UID:10023107-1771617600-1771617600@berobowlo.com.au
SUMMARY:Bounty Hunters Band
DESCRIPTION:
URL:https://berobowlo.com.au/event/bounty-hunters-band/
CATEGORIES:Live Entertainment
END:VEVENT
BEGIN:VEVENT
DTSTART;TZID=UTC:20260221T200000
DTEND;TZID=UTC:20260221T200000
DTSTAMP:20260421T000423
CREATED:20251006T222933Z
LAST-MODIFIED:20260213T043528Z
UID:10032754-1771704000-1771704000@berobowlo.com.au
SUMMARY:The Roadies
DESCRIPTION:
URL:https://berobowlo.com.au/event/the-roadies/2026-02-21/
CATEGORIES:Live Entertainment
END:VEVENT
BEGIN:VEVENT
DTSTART;TZID=UTC:20260228T200000
DTEND;TZID=UTC:20260228T200000
DTSTAMP:20260421T000423
CREATED:20240906T030356Z
LAST-MODIFIED:20260213T043607Z
UID:10032755-1772308800-1772308800@berobowlo.com.au
SUMMARY:Run 4 Cover
DESCRIPTION:r
URL:https://berobowlo.com.au/event/run-4-cover/2026-02-28/
CATEGORIES:Live Entertainment
END:VEVENT
BEGIN:VEVENT
DTSTART;TZID=UTC:20260313T193000
DTEND;TZID=UTC:20260313T193000
DTSTAMP:20260421T000423
CREATED:20260313T005113Z
LAST-MODIFIED:20260313T005113Z
UID:10037908-1773430200-1773430200@berobowlo.com.au
SUMMARY:Win 2 Corporate Tickets to a Knights Home Game - Draw 1
DESCRIPTION:
URL:https://berobowlo.com.au/event/win-2-corporate-tickets-to-a-knights-home-game-draw-1/
CATEGORIES:Live Entertainment|Weekly Events,Promotions
END:VEVENT
BEGIN:VEVENT
DTSTART;TZID=UTC:20260327T193000
DTEND;TZID=UTC:20260327T193000
DTSTAMP:20260421T000423
CREATED:20260313T005433Z
LAST-MODIFIED:20260313T005433Z
UID:10037909-1774639800-1774639800@berobowlo.com.au
SUMMARY:Win 2 Corporate Tickets to a Knights Home Game - Draw 2
DESCRIPTION:
URL:https://berobowlo.com.au/event/win-2-corporate-tickets-to-a-knights-home-game-draw-2/
CATEGORIES:Live Entertainment|Weekly Events,Promotions
END:VEVENT
BEGIN:VEVENT
DTSTART;TZID=UTC:20260329T184500
DTEND;TZID=UTC:20260329T184500
DTSTAMP:20260421T000423
CREATED:20260316T044947Z
LAST-MODIFIED:20260316T044947Z
UID:10037970-1774809900-1774809900@berobowlo.com.au
SUMMARY:Giant Sweet Eggscape Raffle
DESCRIPTION:
URL:https://berobowlo.com.au/event/giant-sweet-eggscape-raffle/
CATEGORIES:Promotions
END:VEVENT
BEGIN:VEVENT
DTSTART;TZID=UTC:20260402T184500
DTEND;TZID=UTC:20260402T184500
DTSTAMP:20260421T000423
CREATED:20260316T045110Z
LAST-MODIFIED:20260316T045110Z
UID:10037971-1775155500-1775155500@berobowlo.com.au
SUMMARY:Reel in the Egg-Citement Raffle
DESCRIPTION:
URL:https://berobowlo.com.au/event/reel-in-the-egg-citement-raffle/
CATEGORIES:Promotions
END:VEVENT
BEGIN:VEVENT
DTSTART;TZID=UTC:20260403T184500
DTEND;TZID=UTC:20260403T184500
DTSTAMP:20260421T000423
CREATED:20260316T045459Z
LAST-MODIFIED:20260316T045459Z
UID:10037995-1775241900-1775241900@berobowlo.com.au
SUMMARY:Egg-Straordinary Raffle
DESCRIPTION:
URL:https://berobowlo.com.au/event/egg-straordinary-raffle/
CATEGORIES:Promotions
END:VEVENT
BEGIN:VEVENT
DTSTART;TZID=UTC:20260403T200000
DTEND;TZID=UTC:20260403T200000
DTSTAMP:20260421T000423
CREATED:20251006T222845Z
LAST-MODIFIED:20260316T012939Z
UID:10029753-1775246400-1775246400@berobowlo.com.au
SUMMARY:Dirt Road Band
DESCRIPTION:
URL:https://berobowlo.com.au/event/dirt-road-band/
CATEGORIES:Live Entertainment
END:VEVENT
BEGIN:VEVENT
DTSTART;TZID=UTC:20260404T200000
DTEND;TZID=UTC:20260404T200000
DTSTAMP:20260421T000423
CREATED:20260311T013137Z
LAST-MODIFIED:20260316T013116Z
UID:10037900-1775332800-1775332800@berobowlo.com.au
SUMMARY:Hamilton Alley
DESCRIPTION:
URL:https://berobowlo.com.au/event/hamilton-alley/
CATEGORIES:Live Entertainment
END:VEVENT
BEGIN:VEVENT
DTSTART;VALUE=DATE:20260405
DTEND;VALUE=DATE:20260406
DTSTAMP:20260421T000423
CREATED:20260227T044427Z
LAST-MODIFIED:20260227T044625Z
UID:10037899-1775347200-1775433599@berobowlo.com.au
SUMMARY:HAPPY EASTER RAFFLES
DESCRIPTION:
URL:https://berobowlo.com.au/event/happy-easter-raffles/
CATEGORIES:Promotions
END:VEVENT
BEGIN:VEVENT
DTSTART;TZID=UTC:20260405T184500
DTEND;TZID=UTC:20260405T184500
DTSTAMP:20260421T000423
CREATED:20260316T045534Z
LAST-MODIFIED:20260331T004147Z
UID:10037996-1775414700-1775414700@berobowlo.com.au
SUMMARY:Happy Easter Raffle
DESCRIPTION:
URL:https://berobowlo.com.au/event/happy-easter-raffle/
CATEGORIES:Promotions
END:VEVENT
END:VCALENDAR