BEGIN:VCALENDAR
VERSION:2.0
PRODID:-//Beresfield Bowling Club - ECPv6.15.20//NONSGML v1.0//EN
CALSCALE:GREGORIAN
METHOD:PUBLISH
X-WR-CALNAME:Beresfield Bowling Club
X-ORIGINAL-URL:https://berobowlo.com.au
X-WR-CALDESC:Events for Beresfield Bowling Club
REFRESH-INTERVAL;VALUE=DURATION:PT1H
X-Robots-Tag:noindex
X-PUBLISHED-TTL:PT1H
BEGIN:VTIMEZONE
TZID:UTC
BEGIN:STANDARD
TZOFFSETFROM:+0000
TZOFFSETTO:+0000
TZNAME:UTC
DTSTART:20240101T000000
END:STANDARD
END:VTIMEZONE
BEGIN:VEVENT
DTSTART;TZID=UTC:20251111T114500
DTEND;TZID=UTC:20251111T140000
DTSTAMP:20260424T161107
CREATED:20240207T010925Z
LAST-MODIFIED:20260313T011827Z
UID:10003662-1762861500-1762869600@berobowlo.com.au
SUMMARY:Weekly Lunch Specials
DESCRIPTION:
URL:https://berobowlo.com.au/event/weekly-lunch-specials/2025-11-11/
CATEGORIES:Weekly Events
END:VEVENT
BEGIN:VEVENT
DTSTART;TZID=UTC:20251111T153000
DTEND;TZID=UTC:20251111T173000
DTSTAMP:20260424T161107
CREATED:20240207T010233Z
LAST-MODIFIED:20260213T044035Z
UID:10035979-1762875000-1762882200@berobowlo.com.au
SUMMARY:Happy Hour
DESCRIPTION:
URL:https://berobowlo.com.au/event/happy-hour/2025-11-11/
CATEGORIES:Weekly Events
END:VEVENT
BEGIN:VEVENT
DTSTART;TZID=UTC:20251111T183000
DTEND;TZID=UTC:20251111T183000
DTSTAMP:20260424T161107
CREATED:20240808T230735Z
LAST-MODIFIED:20240808T230948Z
UID:10021506-1762885800-1762885800@berobowlo.com.au
SUMMARY:Members’ Cash Draw
DESCRIPTION:Drawn at 6.30pm\, 7.30pm\, and 8.30pm every Tuesday
URL:https://berobowlo.com.au/event/members-cash-draw-2/2025-11-11/
CATEGORIES:Weekly Events
END:VEVENT
BEGIN:VEVENT
DTSTART;TZID=UTC:20251112T110000
DTEND;TZID=UTC:20251112T110000
DTSTAMP:20260424T161107
CREATED:20240726T043900Z
LAST-MODIFIED:20241203T031220Z
UID:10007687-1762945200-1762945200@berobowlo.com.au
SUMMARY:Club Bingo
DESCRIPTION:Every Wednesday @ 11.00am
URL:https://berobowlo.com.au/event/bingo/2025-11-12/
CATEGORIES:Weekly Events
END:VEVENT
BEGIN:VEVENT
DTSTART;TZID=UTC:20251112T173000
DTEND;TZID=UTC:20251112T173000
DTSTAMP:20260424T161107
CREATED:20240726T045301Z
LAST-MODIFIED:20260330T012518Z
UID:10007209-1762968600-1762968600@berobowlo.com.au
SUMMARY:Wednesday Schnitzel Night
DESCRIPTION:Every Wednesday @ 5.30pm
URL:https://berobowlo.com.au/event/wednesday-schnitzel-night/2025-11-12/
CATEGORIES:Weekly Events
END:VEVENT
BEGIN:VEVENT
DTSTART;TZID=UTC:20251112T190000
DTEND;TZID=UTC:20251112T190000
DTSTAMP:20260424T161107
CREATED:20240819T024656Z
LAST-MODIFIED:20251219T003457Z
UID:10022630-1762974000-1762974000@berobowlo.com.au
SUMMARY:Poker Wednesday
DESCRIPTION:Play starts @ 7pm.
URL:https://berobowlo.com.au/event/poker-wednesday/2025-11-12/
CATEGORIES:Weekly Events
END:VEVENT
BEGIN:VEVENT
DTSTART;TZID=UTC:20251113T173000
DTEND;TZID=UTC:20251113T173000
DTSTAMP:20260424T161107
CREATED:20240726T050232Z
LAST-MODIFIED:20260330T012735Z
UID:10006944-1763055000-1763055000@berobowlo.com.au
SUMMARY:Thursday Steak Night
DESCRIPTION:Every Thursday @ 5.30pm
URL:https://berobowlo.com.au/event/thursday-steak-night-2/2025-11-13/
CATEGORIES:Weekly Events
END:VEVENT
BEGIN:VEVENT
DTSTART;TZID=UTC:20251113T190000
DTEND;TZID=UTC:20251113T190000
DTSTAMP:20260424T161107
CREATED:20250402T050930Z
LAST-MODIFIED:20260213T002822Z
UID:10027766-1763060400-1763060400@berobowlo.com.au
SUMMARY:Cash Housie Helicopter
DESCRIPTION:Thursdays at 7.00pm
URL:https://berobowlo.com.au/event/cash-housie-helicopter/2025-11-13/
CATEGORIES:Weekly Events
END:VEVENT
BEGIN:VEVENT
DTSTART;TZID=UTC:20251115T130000
DTEND;TZID=UTC:20251115T130000
DTSTAMP:20260424T161107
CREATED:20250403T014526Z
LAST-MODIFIED:20260213T002834Z
UID:10028087-1763211600-1763211600@berobowlo.com.au
SUMMARY:Cash Housie
DESCRIPTION:Saturdays at 1pm\nSundays at 1.30pm
URL:https://berobowlo.com.au/event/cash-housie/2025-11-15/
CATEGORIES:Weekly Events
END:VEVENT
BEGIN:VEVENT
DTSTART;TZID=UTC:20251115T180000
DTEND;TZID=UTC:20251115T180000
DTSTAMP:20260424T161107
CREATED:20251015T005558Z
LAST-MODIFIED:20251221T222932Z
UID:10030580-1763229600-1763229600@berobowlo.com.au
SUMMARY:Christmas Toy Raffles
DESCRIPTION:
URL:https://berobowlo.com.au/event/christmas-toy-raffles-2/2025-11-15/
CATEGORIES:Weekly Events
END:VEVENT
BEGIN:VEVENT
DTSTART;TZID=UTC:20251115T200000
DTEND;TZID=UTC:20251115T200000
DTSTAMP:20260424T161107
CREATED:20240906T040240Z
LAST-MODIFIED:20251006T222956Z
UID:10023126-1763236800-1763236800@berobowlo.com.au
SUMMARY:Barracuda
DESCRIPTION:
URL:https://berobowlo.com.au/event/barracuda-2/2025-11-15/
CATEGORIES:Live Entertainment
END:VEVENT
BEGIN:VEVENT
DTSTART;TZID=UTC:20251116T133000
DTEND;TZID=UTC:20251116T133000
DTSTAMP:20260424T161107
CREATED:20250403T015009Z
LAST-MODIFIED:20260213T043741Z
UID:10028347-1763299800-1763299800@berobowlo.com.au
SUMMARY:Cash Housie
DESCRIPTION:Saturdays at 1pm\nSundays at 1.30pm
URL:https://berobowlo.com.au/event/cash-housie-5/2025-11-16/
CATEGORIES:Weekly Events
END:VEVENT
BEGIN:VEVENT
DTSTART;TZID=UTC:20251116T173000
DTEND;TZID=UTC:20251116T173000
DTSTAMP:20260424T161107
CREATED:20240806T023833Z
LAST-MODIFIED:20251006T215636Z
UID:10018172-1763314200-1763314200@berobowlo.com.au
SUMMARY:Red Dirt Country Band with Special Guest Artist
DESCRIPTION:Every Sunday at 5.30pm
URL:https://berobowlo.com.au/event/red-dirt-country-band/2025-11-16/
CATEGORIES:Live Entertainment
END:VEVENT
BEGIN:VEVENT
DTSTART;TZID=UTC:20251117T173000
DTEND;TZID=UTC:20251117T173000
DTSTAMP:20260424T161107
CREATED:20240726T044813Z
LAST-MODIFIED:20260331T003726Z
UID:10006415-1763400600-1763400600@berobowlo.com.au
SUMMARY:Kids Eat Free
DESCRIPTION:Every Monday @ 5.30pm
URL:https://berobowlo.com.au/event/kids-eat-free/2025-11-17/
CATEGORIES:Weekly Events
END:VEVENT
BEGIN:VEVENT
DTSTART;TZID=UTC:20251126T190000
DTEND;TZID=UTC:20251126T190000
DTSTAMP:20260424T161107
CREATED:20250221T024818Z
LAST-MODIFIED:20251021T020405Z
UID:10027148-1764183600-1764183600@berobowlo.com.au
SUMMARY:Members’ Birthday Draw
DESCRIPTION:Draws 7pm\, 7.15pm. 7.30pm\, 7.45pm & 8pm \n 
URL:https://berobowlo.com.au/event/members-birthday-draw-3/2025-11-26/
CATEGORIES:Weekly Events
END:VEVENT
BEGIN:VEVENT
DTSTART;TZID=UTC:20251128T200000
DTEND;TZID=UTC:20251128T200000
DTSTAMP:20260424T161107
CREATED:20251006T222737Z
LAST-MODIFIED:20251006T222737Z
UID:10029752-1764360000-1764360000@berobowlo.com.au
SUMMARY:Merkins
DESCRIPTION:
URL:https://berobowlo.com.au/event/merkins/
CATEGORIES:Live Entertainment
END:VEVENT
BEGIN:VEVENT
DTSTART;TZID=UTC:20251206T200000
DTEND;TZID=UTC:20251206T200000
DTSTAMP:20260424T161107
CREATED:20251006T222933Z
LAST-MODIFIED:20260213T043528Z
UID:10029754-1765051200-1765051200@berobowlo.com.au
SUMMARY:The Roadies
DESCRIPTION:
URL:https://berobowlo.com.au/event/the-roadies/2025-12-06/
CATEGORIES:Live Entertainment
END:VEVENT
BEGIN:VEVENT
DTSTART;TZID=UTC:20251211T173000
DTEND;TZID=UTC:20251211T173000
DTSTAMP:20260424T161107
CREATED:20251008T040151Z
LAST-MODIFIED:20251221T222811Z
UID:10030579-1765474200-1765474200@berobowlo.com.au
SUMMARY:Christmas Ham & Pork
DESCRIPTION:Tuesday 11th November until Tuesday 23rd December.
URL:https://berobowlo.com.au/event/christmas-ham-pork/2025-12-11/
CATEGORIES:Weekly Events
END:VEVENT
BEGIN:VEVENT
DTSTART;TZID=UTC:20251219T200000
DTEND;TZID=UTC:20251219T200000
DTSTAMP:20260424T161107
CREATED:20240906T030356Z
LAST-MODIFIED:20260213T043607Z
UID:10023116-1766174400-1766174400@berobowlo.com.au
SUMMARY:Run 4 Cover
DESCRIPTION:r
URL:https://berobowlo.com.au/event/run-4-cover/2025-12-19/
CATEGORIES:Live Entertainment
END:VEVENT
BEGIN:VEVENT
DTSTART;VALUE=DATE:20251224
DTEND;VALUE=DATE:20251225
DTSTAMP:20260424T161107
CREATED:20251208T025841Z
LAST-MODIFIED:20251208T025841Z
UID:10029813-1766534400-1766620799@berobowlo.com.au
SUMMARY:Christmas Eve Gift Card and Hamper Raffle
DESCRIPTION:
URL:https://berobowlo.com.au/event/christmas-eve-gift-card-and-hamper-raffle/
CATEGORIES:Weekly Events
END:VEVENT
BEGIN:VEVENT
DTSTART;VALUE=DATE:20251225
DTEND;VALUE=DATE:20251226
DTSTAMP:20260424T161107
CREATED:20251219T003237Z
LAST-MODIFIED:20251223T014044Z
UID:10030521-1766620800-1766707199@berobowlo.com.au
SUMMARY:MERRY CHRISTMAS CLOSED TODAY
DESCRIPTION:
URL:https://berobowlo.com.au/event/merry-christmas-club-closed/
CATEGORIES:Live Entertainment,Promotions,Weekly Events
END:VEVENT
BEGIN:VEVENT
DTSTART;VALUE=DATE:20251226
DTEND;VALUE=DATE:20251227
DTSTAMP:20260424T161107
CREATED:20251219T003423Z
LAST-MODIFIED:20251223T034706Z
UID:10030522-1766707200-1766793599@berobowlo.com.au
SUMMARY:Hot Plate Restaurant Closed Lunch & Dinner
DESCRIPTION:
URL:https://berobowlo.com.au/event/hot-plate-restaurant-closed-lunch-dinner/
CATEGORIES:Weekly Events
END:VEVENT
BEGIN:VEVENT
DTSTART;TZID=UTC:20251226T093000
DTEND;TZID=UTC:20251226T203000
DTSTAMP:20260424T161107
CREATED:20251221T224012Z
LAST-MODIFIED:20251224T011437Z
UID:10030585-1766741400-1766781000@berobowlo.com.au
SUMMARY:Choices Café Open
DESCRIPTION:
URL:https://berobowlo.com.au/event/choices-cafe-open/
CATEGORIES:Weekly Events
END:VEVENT
BEGIN:VEVENT
DTSTART;VALUE=DATE:20260101
DTEND;VALUE=DATE:20260102
DTSTAMP:20260424T161107
CREATED:20251219T003702Z
LAST-MODIFIED:20251221T223247Z
UID:10030578-1767225600-1767311999@berobowlo.com.au
SUMMARY:HAPPY NEW YEAR
DESCRIPTION:
URL:https://berobowlo.com.au/event/happy-new-year/
CATEGORIES:Weekly Events
END:VEVENT
BEGIN:VEVENT
DTSTART;TZID=UTC:20260102T200000
DTEND;TZID=UTC:20260102T200000
DTSTAMP:20260424T161107
CREATED:20250627T030455Z
LAST-MODIFIED:20251218T034412Z
UID:10028599-1767384000-1767384000@berobowlo.com.au
SUMMARY:Retro
DESCRIPTION:
URL:https://berobowlo.com.au/event/retro/
CATEGORIES:Live Entertainment
END:VEVENT
BEGIN:VEVENT
DTSTART;TZID=UTC:20260103T200000
DTEND;TZID=UTC:20260103T200000
DTSTAMP:20260424T161107
CREATED:20251221T225707Z
LAST-MODIFIED:20260225T031246Z
UID:10030586-1767470400-1767470400@berobowlo.com.au
SUMMARY:Tribute
DESCRIPTION:
URL:https://berobowlo.com.au/event/tribute/
CATEGORIES:Live Entertainment
END:VEVENT
BEGIN:VEVENT
DTSTART;VALUE=DATE:20260112
DTEND;VALUE=DATE:20260113
DTSTAMP:20260424T161107
CREATED:20251223T033702Z
LAST-MODIFIED:20251223T033702Z
UID:10030589-1768176000-1768262399@berobowlo.com.au
SUMMARY:Hot Plate Restaurant Closed Lunch & Dinner
DESCRIPTION:
URL:https://berobowlo.com.au/event/hot-plate-restaurant-closed-lunch-dinner-2/
CATEGORIES:Weekly Events
END:VEVENT
BEGIN:VEVENT
DTSTART;TZID=UTC:20260113T173000
DTEND;TZID=UTC:20260113T173000
DTSTAMP:20260424T161107
CREATED:20251223T034137Z
LAST-MODIFIED:20251223T034137Z
UID:10030633-1768325400-1768325400@berobowlo.com.au
SUMMARY:Hot Plate Restaurant Closed Lunch only
DESCRIPTION:
URL:https://berobowlo.com.au/event/hot-plate-restaurant-closed-lunch-only/
CATEGORIES:Weekly Events
END:VEVENT
BEGIN:VEVENT
DTSTART;TZID=UTC:20260113T184500
DTEND;TZID=UTC:20260113T184500
DTSTAMP:20260424T161107
CREATED:20260115T024739Z
LAST-MODIFIED:20260316T045343Z
UID:10031774-1768329900-1768329900@berobowlo.com.au
SUMMARY:Weekly Meat Raffles
DESCRIPTION:
URL:https://berobowlo.com.au/event/weekly-meat-raffles-5/2026-01-13/
CATEGORIES:Weekly Events
END:VEVENT
BEGIN:VEVENT
DTSTART;TZID=UTC:20260117T200000
DTEND;TZID=UTC:20260117T200000
DTSTAMP:20260424T161107
CREATED:20240906T030141Z
LAST-MODIFIED:20251218T034749Z
UID:10024112-1768680000-1768680000@berobowlo.com.au
SUMMARY:Early Daze
DESCRIPTION:
URL:https://berobowlo.com.au/event/early-daze/
CATEGORIES:Live Entertainment
END:VEVENT
END:VCALENDAR