BEGIN:VCALENDAR
VERSION:2.0
PRODID:-//Beresfield Bowling Club - ECPv6.15.20//NONSGML v1.0//EN
CALSCALE:GREGORIAN
METHOD:PUBLISH
X-WR-CALNAME:Beresfield Bowling Club
X-ORIGINAL-URL:https://berobowlo.com.au
X-WR-CALDESC:Events for Beresfield Bowling Club
REFRESH-INTERVAL;VALUE=DURATION:PT1H
X-Robots-Tag:noindex
X-PUBLISHED-TTL:PT1H
BEGIN:VTIMEZONE
TZID:UTC
BEGIN:STANDARD
TZOFFSETFROM:+0000
TZOFFSETTO:+0000
TZNAME:UTC
DTSTART:20240101T000000
END:STANDARD
END:VTIMEZONE
BEGIN:VEVENT
DTSTART;TZID=UTC:20250826T114500
DTEND;TZID=UTC:20250826T140000
DTSTAMP:20260426T024033
CREATED:20240207T010925Z
LAST-MODIFIED:20260313T011827Z
UID:10003607-1756208700-1756216800@berobowlo.com.au
SUMMARY:Weekly Lunch Specials
DESCRIPTION:
URL:https://berobowlo.com.au/event/weekly-lunch-specials/2025-08-26/
CATEGORIES:Weekly Events
END:VEVENT
BEGIN:VEVENT
DTSTART;TZID=UTC:20250826T153000
DTEND;TZID=UTC:20250826T173000
DTSTAMP:20260426T024033
CREATED:20240207T010233Z
LAST-MODIFIED:20260213T044035Z
UID:10035902-1756222200-1756229400@berobowlo.com.au
SUMMARY:Happy Hour
DESCRIPTION:
URL:https://berobowlo.com.au/event/happy-hour/2025-08-26/
CATEGORIES:Weekly Events
END:VEVENT
BEGIN:VEVENT
DTSTART;TZID=UTC:20250826T183000
DTEND;TZID=UTC:20250826T183000
DTSTAMP:20260426T024033
CREATED:20240808T230735Z
LAST-MODIFIED:20240808T230948Z
UID:10021495-1756233000-1756233000@berobowlo.com.au
SUMMARY:Members’ Cash Draw
DESCRIPTION:Drawn at 6.30pm\, 7.30pm\, and 8.30pm every Tuesday
URL:https://berobowlo.com.au/event/members-cash-draw-2/2025-08-26/
CATEGORIES:Weekly Events
END:VEVENT
BEGIN:VEVENT
DTSTART;TZID=UTC:20250827T110000
DTEND;TZID=UTC:20250827T110000
DTSTAMP:20260426T024033
CREATED:20240726T043900Z
LAST-MODIFIED:20241203T031220Z
UID:10007643-1756292400-1756292400@berobowlo.com.au
SUMMARY:Club Bingo
DESCRIPTION:Every Wednesday @ 11.00am
URL:https://berobowlo.com.au/event/bingo/2025-08-27/
CATEGORIES:Weekly Events
END:VEVENT
BEGIN:VEVENT
DTSTART;TZID=UTC:20250827T173000
DTEND;TZID=UTC:20250827T173000
DTSTAMP:20260426T024033
CREATED:20240726T045301Z
LAST-MODIFIED:20260330T012518Z
UID:10007198-1756315800-1756315800@berobowlo.com.au
SUMMARY:Wednesday Schnitzel Night
DESCRIPTION:Every Wednesday @ 5.30pm
URL:https://berobowlo.com.au/event/wednesday-schnitzel-night/2025-08-27/
CATEGORIES:Weekly Events
END:VEVENT
BEGIN:VEVENT
DTSTART;TZID=UTC:20250827T190000
DTEND;TZID=UTC:20250827T190000
DTSTAMP:20260426T024033
CREATED:20240819T024656Z
LAST-MODIFIED:20251219T003457Z
UID:10022619-1756321200-1756321200@berobowlo.com.au
SUMMARY:Poker Wednesday
DESCRIPTION:Play starts @ 7pm.
URL:https://berobowlo.com.au/event/poker-wednesday/2025-08-27/
CATEGORIES:Weekly Events
END:VEVENT
BEGIN:VEVENT
DTSTART;TZID=UTC:20250827T190000
DTEND;TZID=UTC:20250827T190000
DTSTAMP:20260426T024033
CREATED:20250221T024818Z
LAST-MODIFIED:20251021T020405Z
UID:10027145-1756321200-1756321200@berobowlo.com.au
SUMMARY:Members’ Birthday Draw
DESCRIPTION:Draws 7pm\, 7.15pm. 7.30pm\, 7.45pm & 8pm \n 
URL:https://berobowlo.com.au/event/members-birthday-draw-3/2025-08-27/
CATEGORIES:Weekly Events
END:VEVENT
BEGIN:VEVENT
DTSTART;TZID=UTC:20250828T173000
DTEND;TZID=UTC:20250828T173000
DTSTAMP:20260426T024033
CREATED:20240726T050232Z
LAST-MODIFIED:20260330T012735Z
UID:10006933-1756402200-1756402200@berobowlo.com.au
SUMMARY:Thursday Steak Night
DESCRIPTION:Every Thursday @ 5.30pm
URL:https://berobowlo.com.au/event/thursday-steak-night-2/2025-08-28/
CATEGORIES:Weekly Events
END:VEVENT
BEGIN:VEVENT
DTSTART;TZID=UTC:20250828T190000
DTEND;TZID=UTC:20250828T190000
DTSTAMP:20260426T024033
CREATED:20250402T050930Z
LAST-MODIFIED:20260213T002822Z
UID:10027755-1756407600-1756407600@berobowlo.com.au
SUMMARY:Cash Housie Helicopter
DESCRIPTION:Thursdays at 7.00pm
URL:https://berobowlo.com.au/event/cash-housie-helicopter/2025-08-28/
CATEGORIES:Weekly Events
END:VEVENT
BEGIN:VEVENT
DTSTART;TZID=UTC:20250830T130000
DTEND;TZID=UTC:20250830T130000
DTSTAMP:20260426T024033
CREATED:20250403T014526Z
LAST-MODIFIED:20260213T002834Z
UID:10028076-1756558800-1756558800@berobowlo.com.au
SUMMARY:Cash Housie
DESCRIPTION:Saturdays at 1pm\nSundays at 1.30pm
URL:https://berobowlo.com.au/event/cash-housie/2025-08-30/
CATEGORIES:Weekly Events
END:VEVENT
BEGIN:VEVENT
DTSTART;TZID=UTC:20250831T133000
DTEND;TZID=UTC:20250831T133000
DTSTAMP:20260426T024033
CREATED:20250403T015009Z
LAST-MODIFIED:20260213T043741Z
UID:10028336-1756647000-1756647000@berobowlo.com.au
SUMMARY:Cash Housie
DESCRIPTION:Saturdays at 1pm\nSundays at 1.30pm
URL:https://berobowlo.com.au/event/cash-housie-5/2025-08-31/
CATEGORIES:Weekly Events
END:VEVENT
BEGIN:VEVENT
DTSTART;TZID=UTC:20250831T173000
DTEND;TZID=UTC:20250831T173000
DTSTAMP:20260426T024033
CREATED:20240806T023833Z
LAST-MODIFIED:20251006T215636Z
UID:10018161-1756661400-1756661400@berobowlo.com.au
SUMMARY:Red Dirt Country Band with Special Guest Artist
DESCRIPTION:Every Sunday at 5.30pm
URL:https://berobowlo.com.au/event/red-dirt-country-band/2025-08-31/
CATEGORIES:Live Entertainment
END:VEVENT
BEGIN:VEVENT
DTSTART;TZID=UTC:20250901T173000
DTEND;TZID=UTC:20250901T173000
DTSTAMP:20260426T024033
CREATED:20240726T044813Z
LAST-MODIFIED:20260331T003726Z
UID:10006404-1756747800-1756747800@berobowlo.com.au
SUMMARY:Kids Eat Free
DESCRIPTION:Every Monday @ 5.30pm
URL:https://berobowlo.com.au/event/kids-eat-free/2025-09-01/
CATEGORIES:Weekly Events
END:VEVENT
BEGIN:VEVENT
DTSTART;TZID=UTC:20250905T080000
DTEND;TZID=UTC:20250905T170000
DTSTAMP:20260426T024033
CREATED:20250627T031633Z
LAST-MODIFIED:20250731T044245Z
UID:10028604-1757059200-1757091600@berobowlo.com.au
SUMMARY:Bella Grande
DESCRIPTION:
URL:https://berobowlo.com.au/event/bella-grande/
CATEGORIES:Live Entertainment
END:VEVENT
BEGIN:VEVENT
DTSTART;TZID=UTC:20250906T200000
DTEND;TZID=UTC:20250906T200000
DTSTAMP:20260426T024033
CREATED:20250627T031710Z
LAST-MODIFIED:20250731T044453Z
UID:10028605-1757188800-1757188800@berobowlo.com.au
SUMMARY:Press Play
DESCRIPTION:
URL:https://berobowlo.com.au/event/press-play/
CATEGORIES:Live Entertainment
END:VEVENT
BEGIN:VEVENT
DTSTART;VALUE=DATE:20250907
DTEND;VALUE=DATE:20250908
DTSTAMP:20260426T024033
CREATED:20250901T053057Z
LAST-MODIFIED:20250901T053057Z
UID:10029744-1757203200-1757289599@berobowlo.com.au
SUMMARY:Celebrate Father's Day
DESCRIPTION:
URL:https://berobowlo.com.au/event/celebrate-fathers-day/
CATEGORIES:Live Entertainment
END:VEVENT
BEGIN:VEVENT
DTSTART;TZID=UTC:20250907T183000
DTEND;TZID=UTC:20250907T183000
DTSTAMP:20260426T024033
CREATED:20250822T051014Z
LAST-MODIFIED:20250822T051014Z
UID:10029742-1757269800-1757269800@berobowlo.com.au
SUMMARY:FATHERS DAY SWIPE TO WIN A ZIGGY
DESCRIPTION:
URL:https://berobowlo.com.au/event/fathers-day-swipe-to-win-a-ziggy/
CATEGORIES:Live Entertainment
END:VEVENT
BEGIN:VEVENT
DTSTART;TZID=UTC:20250913T200000
DTEND;TZID=UTC:20250913T200000
DTSTAMP:20260426T024033
CREATED:20240806T062405Z
LAST-MODIFIED:20250627T031929Z
UID:10023110-1757793600-1757793600@berobowlo.com.au
SUMMARY:Area 51
DESCRIPTION:
URL:https://berobowlo.com.au/event/area-51/
CATEGORIES:Live Entertainment
END:VEVENT
BEGIN:VEVENT
DTSTART;TZID=UTC:20250920T200000
DTEND;TZID=UTC:20250920T200000
DTSTAMP:20260426T024033
CREATED:20250627T032038Z
LAST-MODIFIED:20250731T044550Z
UID:10028607-1758398400-1758398400@berobowlo.com.au
SUMMARY:Iconic (FOA)
DESCRIPTION:
URL:https://berobowlo.com.au/event/iconic-foa/
CATEGORIES:Live Entertainment
END:VEVENT
BEGIN:VEVENT
DTSTART;TZID=UTC:20251019T080000
DTEND;TZID=UTC:20251019T170000
DTSTAMP:20260426T024033
CREATED:20250828T011713Z
LAST-MODIFIED:20250828T012235Z
UID:10029743-1760860800-1760893200@berobowlo.com.au
SUMMARY:2025 Mega Raffle
DESCRIPTION:
URL:https://berobowlo.com.au/event/2025-mega-raffle/
CATEGORIES:Live Entertainment
END:VEVENT
BEGIN:VEVENT
DTSTART;TZID=UTC:20251101T200000
DTEND;TZID=UTC:20251101T200000
DTSTAMP:20260426T024033
CREATED:20240906T024222Z
LAST-MODIFIED:20251006T223448Z
UID:10023103-1762027200-1762027200@berobowlo.com.au
SUMMARY:RO551
DESCRIPTION:
URL:https://berobowlo.com.au/event/ro551/
CATEGORIES:Live Entertainment
END:VEVENT
BEGIN:VEVENT
DTSTART;TZID=UTC:20251104T083000
DTEND;TZID=UTC:20251104T150000
DTSTAMP:20260426T024033
CREATED:20251007T032048Z
LAST-MODIFIED:20251007T035743Z
UID:10029757-1762245000-1762268400@berobowlo.com.au
SUMMARY:MELBOURNE CUP
DESCRIPTION:
URL:https://berobowlo.com.au/event/melbourne-cup/
CATEGORIES:Live Entertainment
END:VEVENT
BEGIN:VEVENT
DTSTART;TZID=UTC:20251107T200000
DTEND;TZID=UTC:20251107T200000
DTSTAMP:20260426T024033
CREATED:20240906T024624Z
LAST-MODIFIED:20251006T222215Z
UID:10023104-1762545600-1762545600@berobowlo.com.au
SUMMARY:Gen-R-8
DESCRIPTION:
URL:https://berobowlo.com.au/event/gen-r-8-2/
CATEGORIES:Live Entertainment
END:VEVENT
BEGIN:VEVENT
DTSTART;TZID=UTC:20251115T180000
DTEND;TZID=UTC:20251115T180000
DTSTAMP:20260426T024033
CREATED:20251015T005558Z
LAST-MODIFIED:20251221T222932Z
UID:10030580-1763229600-1763229600@berobowlo.com.au
SUMMARY:Christmas Toy Raffles
DESCRIPTION:
URL:https://berobowlo.com.au/event/christmas-toy-raffles-2/2025-11-15/
CATEGORIES:Weekly Events
END:VEVENT
BEGIN:VEVENT
DTSTART;TZID=UTC:20251115T200000
DTEND;TZID=UTC:20251115T200000
DTSTAMP:20260426T024033
CREATED:20240906T040240Z
LAST-MODIFIED:20251006T222956Z
UID:10023126-1763236800-1763236800@berobowlo.com.au
SUMMARY:Barracuda
DESCRIPTION:
URL:https://berobowlo.com.au/event/barracuda-2/2025-11-15/
CATEGORIES:Live Entertainment
END:VEVENT
BEGIN:VEVENT
DTSTART;TZID=UTC:20251128T200000
DTEND;TZID=UTC:20251128T200000
DTSTAMP:20260426T024033
CREATED:20251006T222737Z
LAST-MODIFIED:20251006T222737Z
UID:10029752-1764360000-1764360000@berobowlo.com.au
SUMMARY:Merkins
DESCRIPTION:
URL:https://berobowlo.com.au/event/merkins/
CATEGORIES:Live Entertainment
END:VEVENT
BEGIN:VEVENT
DTSTART;TZID=UTC:20251206T200000
DTEND;TZID=UTC:20251206T200000
DTSTAMP:20260426T024033
CREATED:20251006T222933Z
LAST-MODIFIED:20260213T043528Z
UID:10029754-1765051200-1765051200@berobowlo.com.au
SUMMARY:The Roadies
DESCRIPTION:
URL:https://berobowlo.com.au/event/the-roadies/2025-12-06/
CATEGORIES:Live Entertainment
END:VEVENT
BEGIN:VEVENT
DTSTART;TZID=UTC:20251211T173000
DTEND;TZID=UTC:20251211T173000
DTSTAMP:20260426T024033
CREATED:20251008T040151Z
LAST-MODIFIED:20251221T222811Z
UID:10030579-1765474200-1765474200@berobowlo.com.au
SUMMARY:Christmas Ham & Pork
DESCRIPTION:Tuesday 11th November until Tuesday 23rd December.
URL:https://berobowlo.com.au/event/christmas-ham-pork/2025-12-11/
CATEGORIES:Weekly Events
END:VEVENT
BEGIN:VEVENT
DTSTART;TZID=UTC:20251219T200000
DTEND;TZID=UTC:20251219T200000
DTSTAMP:20260426T024033
CREATED:20240906T030356Z
LAST-MODIFIED:20260213T043607Z
UID:10023116-1766174400-1766174400@berobowlo.com.au
SUMMARY:Run 4 Cover
DESCRIPTION:r
URL:https://berobowlo.com.au/event/run-4-cover/2025-12-19/
CATEGORIES:Live Entertainment
END:VEVENT
BEGIN:VEVENT
DTSTART;VALUE=DATE:20251224
DTEND;VALUE=DATE:20251225
DTSTAMP:20260426T024033
CREATED:20251208T025841Z
LAST-MODIFIED:20251208T025841Z
UID:10029813-1766534400-1766620799@berobowlo.com.au
SUMMARY:Christmas Eve Gift Card and Hamper Raffle
DESCRIPTION:
URL:https://berobowlo.com.au/event/christmas-eve-gift-card-and-hamper-raffle/
CATEGORIES:Weekly Events
END:VEVENT
END:VCALENDAR